BEGIN:VCALENDAR
VERSION:2.0
PRODID:-//City of Hastings - ECPv6.15.20//NONSGML v1.0//EN
CALSCALE:GREGORIAN
METHOD:PUBLISH
X-WR-CALNAME:City of Hastings
X-ORIGINAL-URL:https://www.hastingsmi.gov
X-WR-CALDESC:Events for City of Hastings
REFRESH-INTERVAL;VALUE=DURATION:PT1H
X-Robots-Tag:noindex
X-PUBLISHED-TTL:PT1H
BEGIN:VTIMEZONE
TZID:America/Detroit
BEGIN:DAYLIGHT
TZOFFSETFROM:-0500
TZOFFSETTO:-0400
TZNAME:EDT
DTSTART:20250309T070000
END:DAYLIGHT
BEGIN:STANDARD
TZOFFSETFROM:-0400
TZOFFSETTO:-0500
TZNAME:EST
DTSTART:20251102T060000
END:STANDARD
BEGIN:DAYLIGHT
TZOFFSETFROM:-0500
TZOFFSETTO:-0400
TZNAME:EDT
DTSTART:20260308T070000
END:DAYLIGHT
BEGIN:STANDARD
TZOFFSETFROM:-0400
TZOFFSETTO:-0500
TZNAME:EST
DTSTART:20261101T060000
END:STANDARD
BEGIN:DAYLIGHT
TZOFFSETFROM:-0500
TZOFFSETTO:-0400
TZNAME:EDT
DTSTART:20270314T070000
END:DAYLIGHT
BEGIN:STANDARD
TZOFFSETFROM:-0400
TZOFFSETTO:-0500
TZNAME:EST
DTSTART:20271107T060000
END:STANDARD
BEGIN:DAYLIGHT
TZOFFSETFROM:-0500
TZOFFSETTO:-0400
TZNAME:EDT
DTSTART:20280312T070000
END:DAYLIGHT
BEGIN:STANDARD
TZOFFSETFROM:-0400
TZOFFSETTO:-0500
TZNAME:EST
DTSTART:20281105T060000
END:STANDARD
BEGIN:DAYLIGHT
TZOFFSETFROM:-0500
TZOFFSETTO:-0400
TZNAME:EDT
DTSTART:20290311T070000
END:DAYLIGHT
BEGIN:STANDARD
TZOFFSETFROM:-0400
TZOFFSETTO:-0500
TZNAME:EST
DTSTART:20291104T060000
END:STANDARD
END:VTIMEZONE
BEGIN:VEVENT
DTSTART;TZID=America/Detroit:20260421T190000
DTEND;TZID=America/Detroit:20260421T200000
DTSTAMP:20260420T130555
CREATED:20230314T170317Z
LAST-MODIFIED:20230314T170319Z
UID:10001275-1776798000-1776801600@www.hastingsmi.gov
SUMMARY:Zoning Board of Appeals
DESCRIPTION:Meetings are the 3rd Tuesday of the month at 7:00 PM in Council Chambers at City Hall.
URL:https://www.hastingsmi.gov/event/zoning-board-of-appeals/2026-04-21
CATEGORIES:Meeting
END:VEVENT
BEGIN:VEVENT
DTSTART;TZID=America/Detroit:20260519T190000
DTEND;TZID=America/Detroit:20260519T200000
DTSTAMP:20260420T130555
CREATED:20230314T170317Z
LAST-MODIFIED:20230314T170319Z
UID:10001276-1779217200-1779220800@www.hastingsmi.gov
SUMMARY:Zoning Board of Appeals
DESCRIPTION:Meetings are the 3rd Tuesday of the month at 7:00 PM in Council Chambers at City Hall.
URL:https://www.hastingsmi.gov/event/zoning-board-of-appeals/2026-05-19
CATEGORIES:Meeting
END:VEVENT
BEGIN:VEVENT
DTSTART;TZID=America/Detroit:20260616T190000
DTEND;TZID=America/Detroit:20260616T200000
DTSTAMP:20260420T130555
CREATED:20230314T170317Z
LAST-MODIFIED:20230314T170319Z
UID:10001277-1781636400-1781640000@www.hastingsmi.gov
SUMMARY:Zoning Board of Appeals
DESCRIPTION:Meetings are the 3rd Tuesday of the month at 7:00 PM in Council Chambers at City Hall.
URL:https://www.hastingsmi.gov/event/zoning-board-of-appeals/2026-06-16
CATEGORIES:Meeting
END:VEVENT
BEGIN:VEVENT
DTSTART;TZID=America/Detroit:20260721T190000
DTEND;TZID=America/Detroit:20260721T200000
DTSTAMP:20260420T130555
CREATED:20230314T170317Z
LAST-MODIFIED:20230314T170319Z
UID:10001278-1784660400-1784664000@www.hastingsmi.gov
SUMMARY:Zoning Board of Appeals
DESCRIPTION:Meetings are the 3rd Tuesday of the month at 7:00 PM in Council Chambers at City Hall.
URL:https://www.hastingsmi.gov/event/zoning-board-of-appeals/2026-07-21
CATEGORIES:Meeting
END:VEVENT
BEGIN:VEVENT
DTSTART;TZID=America/Detroit:20260818T190000
DTEND;TZID=America/Detroit:20260818T200000
DTSTAMP:20260420T130555
CREATED:20230314T170317Z
LAST-MODIFIED:20230314T170319Z
UID:10001279-1787079600-1787083200@www.hastingsmi.gov
SUMMARY:Zoning Board of Appeals
DESCRIPTION:Meetings are the 3rd Tuesday of the month at 7:00 PM in Council Chambers at City Hall.
URL:https://www.hastingsmi.gov/event/zoning-board-of-appeals/2026-08-18
CATEGORIES:Meeting
END:VEVENT
BEGIN:VEVENT
DTSTART;TZID=America/Detroit:20260915T190000
DTEND;TZID=America/Detroit:20260915T200000
DTSTAMP:20260420T130555
CREATED:20230314T170317Z
LAST-MODIFIED:20230314T170319Z
UID:10001280-1789498800-1789502400@www.hastingsmi.gov
SUMMARY:Zoning Board of Appeals
DESCRIPTION:Meetings are the 3rd Tuesday of the month at 7:00 PM in Council Chambers at City Hall.
URL:https://www.hastingsmi.gov/event/zoning-board-of-appeals/2026-09-15
CATEGORIES:Meeting
END:VEVENT
BEGIN:VEVENT
DTSTART;TZID=America/Detroit:20261020T190000
DTEND;TZID=America/Detroit:20261020T200000
DTSTAMP:20260420T130555
CREATED:20230314T170317Z
LAST-MODIFIED:20230314T170319Z
UID:10001281-1792522800-1792526400@www.hastingsmi.gov
SUMMARY:Zoning Board of Appeals
DESCRIPTION:Meetings are the 3rd Tuesday of the month at 7:00 PM in Council Chambers at City Hall.
URL:https://www.hastingsmi.gov/event/zoning-board-of-appeals/2026-10-20
CATEGORIES:Meeting
END:VEVENT
BEGIN:VEVENT
DTSTART;TZID=America/Detroit:20261117T190000
DTEND;TZID=America/Detroit:20261117T200000
DTSTAMP:20260420T130555
CREATED:20230314T170317Z
LAST-MODIFIED:20230314T170319Z
UID:10001282-1794942000-1794945600@www.hastingsmi.gov
SUMMARY:Zoning Board of Appeals
DESCRIPTION:Meetings are the 3rd Tuesday of the month at 7:00 PM in Council Chambers at City Hall.
URL:https://www.hastingsmi.gov/event/zoning-board-of-appeals/2026-11-17
CATEGORIES:Meeting
END:VEVENT
BEGIN:VEVENT
DTSTART;TZID=America/Detroit:20261215T190000
DTEND;TZID=America/Detroit:20261215T200000
DTSTAMP:20260420T130555
CREATED:20230314T170317Z
LAST-MODIFIED:20230314T170319Z
UID:10001283-1797361200-1797364800@www.hastingsmi.gov
SUMMARY:Zoning Board of Appeals
DESCRIPTION:Meetings are the 3rd Tuesday of the month at 7:00 PM in Council Chambers at City Hall.
URL:https://www.hastingsmi.gov/event/zoning-board-of-appeals/2026-12-15
CATEGORIES:Meeting
END:VEVENT
BEGIN:VEVENT
DTSTART;TZID=America/Detroit:20270119T190000
DTEND;TZID=America/Detroit:20270119T200000
DTSTAMP:20260420T130555
CREATED:20230314T170317Z
LAST-MODIFIED:20230314T170319Z
UID:10001284-1800385200-1800388800@www.hastingsmi.gov
SUMMARY:Zoning Board of Appeals
DESCRIPTION:Meetings are the 3rd Tuesday of the month at 7:00 PM in Council Chambers at City Hall.
URL:https://www.hastingsmi.gov/event/zoning-board-of-appeals/2027-01-19
CATEGORIES:Meeting
END:VEVENT
BEGIN:VEVENT
DTSTART;TZID=America/Detroit:20270216T190000
DTEND;TZID=America/Detroit:20270216T200000
DTSTAMP:20260420T130555
CREATED:20230314T170317Z
LAST-MODIFIED:20230314T170319Z
UID:10001285-1802804400-1802808000@www.hastingsmi.gov
SUMMARY:Zoning Board of Appeals
DESCRIPTION:Meetings are the 3rd Tuesday of the month at 7:00 PM in Council Chambers at City Hall.
URL:https://www.hastingsmi.gov/event/zoning-board-of-appeals/2027-02-16
CATEGORIES:Meeting
END:VEVENT
BEGIN:VEVENT
DTSTART;TZID=America/Detroit:20270316T190000
DTEND;TZID=America/Detroit:20270316T200000
DTSTAMP:20260420T130555
CREATED:20230314T170317Z
LAST-MODIFIED:20230314T170319Z
UID:10001286-1805223600-1805227200@www.hastingsmi.gov
SUMMARY:Zoning Board of Appeals
DESCRIPTION:Meetings are the 3rd Tuesday of the month at 7:00 PM in Council Chambers at City Hall.
URL:https://www.hastingsmi.gov/event/zoning-board-of-appeals/2027-03-16
CATEGORIES:Meeting
END:VEVENT
BEGIN:VEVENT
DTSTART;TZID=America/Detroit:20270420T190000
DTEND;TZID=America/Detroit:20270420T200000
DTSTAMP:20260420T130555
CREATED:20230314T170317Z
LAST-MODIFIED:20230314T170319Z
UID:10001287-1808247600-1808251200@www.hastingsmi.gov
SUMMARY:Zoning Board of Appeals
DESCRIPTION:Meetings are the 3rd Tuesday of the month at 7:00 PM in Council Chambers at City Hall.
URL:https://www.hastingsmi.gov/event/zoning-board-of-appeals/2027-04-20
CATEGORIES:Meeting
END:VEVENT
BEGIN:VEVENT
DTSTART;TZID=America/Detroit:20270518T190000
DTEND;TZID=America/Detroit:20270518T200000
DTSTAMP:20260420T130555
CREATED:20230314T170317Z
LAST-MODIFIED:20230314T170319Z
UID:10001288-1810666800-1810670400@www.hastingsmi.gov
SUMMARY:Zoning Board of Appeals
DESCRIPTION:Meetings are the 3rd Tuesday of the month at 7:00 PM in Council Chambers at City Hall.
URL:https://www.hastingsmi.gov/event/zoning-board-of-appeals/2027-05-18
CATEGORIES:Meeting
END:VEVENT
BEGIN:VEVENT
DTSTART;TZID=America/Detroit:20270615T190000
DTEND;TZID=America/Detroit:20270615T200000
DTSTAMP:20260420T130555
CREATED:20230314T170317Z
LAST-MODIFIED:20230314T170319Z
UID:10001289-1813086000-1813089600@www.hastingsmi.gov
SUMMARY:Zoning Board of Appeals
DESCRIPTION:Meetings are the 3rd Tuesday of the month at 7:00 PM in Council Chambers at City Hall.
URL:https://www.hastingsmi.gov/event/zoning-board-of-appeals/2027-06-15
CATEGORIES:Meeting
END:VEVENT
BEGIN:VEVENT
DTSTART;TZID=America/Detroit:20270720T190000
DTEND;TZID=America/Detroit:20270720T200000
DTSTAMP:20260420T130555
CREATED:20230314T170317Z
LAST-MODIFIED:20230314T170319Z
UID:10001290-1816110000-1816113600@www.hastingsmi.gov
SUMMARY:Zoning Board of Appeals
DESCRIPTION:Meetings are the 3rd Tuesday of the month at 7:00 PM in Council Chambers at City Hall.
URL:https://www.hastingsmi.gov/event/zoning-board-of-appeals/2027-07-20
CATEGORIES:Meeting
END:VEVENT
BEGIN:VEVENT
DTSTART;TZID=America/Detroit:20270817T190000
DTEND;TZID=America/Detroit:20270817T200000
DTSTAMP:20260420T130555
CREATED:20230314T170317Z
LAST-MODIFIED:20230314T170319Z
UID:10001291-1818529200-1818532800@www.hastingsmi.gov
SUMMARY:Zoning Board of Appeals
DESCRIPTION:Meetings are the 3rd Tuesday of the month at 7:00 PM in Council Chambers at City Hall.
URL:https://www.hastingsmi.gov/event/zoning-board-of-appeals/2027-08-17
CATEGORIES:Meeting
END:VEVENT
BEGIN:VEVENT
DTSTART;TZID=America/Detroit:20270921T190000
DTEND;TZID=America/Detroit:20270921T200000
DTSTAMP:20260420T130555
CREATED:20230314T170317Z
LAST-MODIFIED:20230314T170319Z
UID:10001292-1821553200-1821556800@www.hastingsmi.gov
SUMMARY:Zoning Board of Appeals
DESCRIPTION:Meetings are the 3rd Tuesday of the month at 7:00 PM in Council Chambers at City Hall.
URL:https://www.hastingsmi.gov/event/zoning-board-of-appeals/2027-09-21
CATEGORIES:Meeting
END:VEVENT
BEGIN:VEVENT
DTSTART;TZID=America/Detroit:20271019T190000
DTEND;TZID=America/Detroit:20271019T200000
DTSTAMP:20260420T130555
CREATED:20230314T170317Z
LAST-MODIFIED:20230314T170319Z
UID:10001293-1823972400-1823976000@www.hastingsmi.gov
SUMMARY:Zoning Board of Appeals
DESCRIPTION:Meetings are the 3rd Tuesday of the month at 7:00 PM in Council Chambers at City Hall.
URL:https://www.hastingsmi.gov/event/zoning-board-of-appeals/2027-10-19
CATEGORIES:Meeting
END:VEVENT
BEGIN:VEVENT
DTSTART;TZID=America/Detroit:20271116T190000
DTEND;TZID=America/Detroit:20271116T200000
DTSTAMP:20260420T130555
CREATED:20230314T170317Z
LAST-MODIFIED:20230314T170319Z
UID:10001294-1826391600-1826395200@www.hastingsmi.gov
SUMMARY:Zoning Board of Appeals
DESCRIPTION:Meetings are the 3rd Tuesday of the month at 7:00 PM in Council Chambers at City Hall.
URL:https://www.hastingsmi.gov/event/zoning-board-of-appeals/2027-11-16
CATEGORIES:Meeting
END:VEVENT
BEGIN:VEVENT
DTSTART;TZID=America/Detroit:20271221T190000
DTEND;TZID=America/Detroit:20271221T200000
DTSTAMP:20260420T130555
CREATED:20230314T170317Z
LAST-MODIFIED:20230314T170319Z
UID:10001295-1829415600-1829419200@www.hastingsmi.gov
SUMMARY:Zoning Board of Appeals
DESCRIPTION:Meetings are the 3rd Tuesday of the month at 7:00 PM in Council Chambers at City Hall.
URL:https://www.hastingsmi.gov/event/zoning-board-of-appeals/2027-12-21
CATEGORIES:Meeting
END:VEVENT
BEGIN:VEVENT
DTSTART;TZID=America/Detroit:20280118T190000
DTEND;TZID=America/Detroit:20280118T200000
DTSTAMP:20260420T130555
CREATED:20230314T170317Z
LAST-MODIFIED:20230314T170319Z
UID:10001296-1831834800-1831838400@www.hastingsmi.gov
SUMMARY:Zoning Board of Appeals
DESCRIPTION:Meetings are the 3rd Tuesday of the month at 7:00 PM in Council Chambers at City Hall.
URL:https://www.hastingsmi.gov/event/zoning-board-of-appeals/2028-01-18
CATEGORIES:Meeting
END:VEVENT
BEGIN:VEVENT
DTSTART;TZID=America/Detroit:20280215T190000
DTEND;TZID=America/Detroit:20280215T200000
DTSTAMP:20260420T130555
CREATED:20230314T170317Z
LAST-MODIFIED:20230314T170319Z
UID:10001297-1834254000-1834257600@www.hastingsmi.gov
SUMMARY:Zoning Board of Appeals
DESCRIPTION:Meetings are the 3rd Tuesday of the month at 7:00 PM in Council Chambers at City Hall.
URL:https://www.hastingsmi.gov/event/zoning-board-of-appeals/2028-02-15
CATEGORIES:Meeting
END:VEVENT
END:VCALENDAR