BEGIN:VCALENDAR
VERSION:2.0
PRODID:-//City of Hastings - ECPv6.15.20//NONSGML v1.0//EN
CALSCALE:GREGORIAN
METHOD:PUBLISH
X-WR-CALNAME:City of Hastings
X-ORIGINAL-URL:https://www.hastingsmi.gov
X-WR-CALDESC:Events for City of Hastings
REFRESH-INTERVAL;VALUE=DURATION:PT1H
X-Robots-Tag:noindex
X-PUBLISHED-TTL:PT1H
BEGIN:VTIMEZONE
TZID:America/Detroit
BEGIN:DAYLIGHT
TZOFFSETFROM:-0500
TZOFFSETTO:-0400
TZNAME:EDT
DTSTART:20240310T070000
END:DAYLIGHT
BEGIN:STANDARD
TZOFFSETFROM:-0400
TZOFFSETTO:-0500
TZNAME:EST
DTSTART:20241103T060000
END:STANDARD
BEGIN:DAYLIGHT
TZOFFSETFROM:-0500
TZOFFSETTO:-0400
TZNAME:EDT
DTSTART:20250309T070000
END:DAYLIGHT
BEGIN:STANDARD
TZOFFSETFROM:-0400
TZOFFSETTO:-0500
TZNAME:EST
DTSTART:20251102T060000
END:STANDARD
BEGIN:DAYLIGHT
TZOFFSETFROM:-0500
TZOFFSETTO:-0400
TZNAME:EDT
DTSTART:20260308T070000
END:DAYLIGHT
BEGIN:STANDARD
TZOFFSETFROM:-0400
TZOFFSETTO:-0500
TZNAME:EST
DTSTART:20261101T060000
END:STANDARD
END:VTIMEZONE
BEGIN:VEVENT
DTSTART;TZID=America/Detroit:20250602T163000
DTEND;TZID=America/Detroit:20250602T173000
DTSTAMP:20260423T130231
CREATED:20240227T160218Z
LAST-MODIFIED:20240227T160219Z
UID:10001204-1748881800-1748885400@www.hastingsmi.gov
SUMMARY:Library Board
DESCRIPTION:Meetings are the 1st Monday of the month at 4:30 PM in the Library.
URL:https://www.hastingsmi.gov/event/library-board-2/2025-06-02
LOCATION:MI
CATEGORIES:Meeting
END:VEVENT
BEGIN:VEVENT
DTSTART;TZID=America/Detroit:20250602T190000
DTEND;TZID=America/Detroit:20250602T200000
DTSTAMP:20260423T130231
CREATED:20231219T163036Z
LAST-MODIFIED:20240227T155133Z
UID:10001564-1748890800-1748894400@www.hastingsmi.gov
SUMMARY:Planning Commission Meeting
DESCRIPTION:Meetings are the 1st Monday of the month at 7:00 PM in Council Chambers at City Hall.
URL:https://www.hastingsmi.gov/event/planning-commission-meeting-2/2025-06-02
LOCATION:MI
CATEGORIES:Meeting
END:VEVENT
BEGIN:VEVENT
DTSTART;TZID=America/Detroit:20250604T110000
DTEND;TZID=America/Detroit:20250604T160000
DTSTAMP:20260423T130231
CREATED:20250507T164334Z
LAST-MODIFIED:20250507T164334Z
UID:10002597-1749034800-1749052800@www.hastingsmi.gov
SUMMARY:Farmers Market
DESCRIPTION:
URL:https://www.hastingsmi.gov/event/farmers-market-3/2025-06-04
LOCATION:Courthouse Lawn\, 220 W State Street\, Hastings\, MI\, 49058\, United States
CATEGORIES:City of Hastings Event,Community Event
END:VEVENT
BEGIN:VEVENT
DTSTART;TZID=America/Detroit:20250604T193000
DTEND;TZID=America/Detroit:20250604T204500
DTSTAMP:20260423T130231
CREATED:20250507T151326Z
LAST-MODIFIED:20250522T145239Z
UID:10002555-1749065400-1749069900@www.hastingsmi.gov
SUMMARY:Wednesday Community Concerts
DESCRIPTION:June 4\, 2025: City Band-Band Favorites \nJune 11\, 2025: City Band-Broadway Hits! \nJune 18\, 2025: City Band-A Night at the Movies \nJune 25\, 2025: City Band-Chart Toppers \nJuly 2\, 2025: City Band-11th Annual Tribute to America! \nJuly 9\, 2025: TJO \nJuly 16\, 2025: Ellis & M.E. \nJuly 23\, 2025: Grumpy Old Men \nJuly 30\, 2025: Jesse & Kody \nAugust 6\, 2025: Otsego Jazz Ensemble \nAugust 13\, 2025: Seth Brown Duo
URL:https://www.hastingsmi.gov/event/wednesday-community-concerts/2025-06-04
LOCATION:Thornapple Plaza\, 301 E State St\, Hastings\, MI\, 49058\, United States
CATEGORIES:City of Hastings Event,Community Event
END:VEVENT
BEGIN:VEVENT
DTSTART;TZID=America/Detroit:20250606T120000
DTEND;TZID=America/Detroit:20250606T130000
DTSTAMP:20260423T130231
CREATED:20250507T160439Z
LAST-MODIFIED:20250507T162519Z
UID:10002563-1749211200-1749214800@www.hastingsmi.gov
SUMMARY:Fridays at the Fountain
DESCRIPTION:June 6\, 2025: Ben Traverse Trio \nJune 13\, 2025: Michael Fahey \nJune 20\, 2025: Ben Traverse \nJune 27\, 2025: Jacob McLeod
URL:https://www.hastingsmi.gov/event/fridays-at-the-fountain-2/2025-06-06
LOCATION:Courthouse Lawn\, 220 W State Street\, Hastings\, MI\, 49058\, United States
CATEGORIES:Community Event
END:VEVENT
BEGIN:VEVENT
DTSTART;TZID=America/Detroit:20250606T193000
DTEND;TZID=America/Detroit:20250606T204500
DTSTAMP:20260423T130231
CREATED:20250507T162310Z
LAST-MODIFIED:20250522T143311Z
UID:10002580-1749238200-1749242700@www.hastingsmi.gov
SUMMARY:Friday Night Features
DESCRIPTION:June 6\, 2025: Rebel Eves \nJune 13\, 2025: Fat Animals \nJune 20\, 2025: Stone Street Revival \nJune 27\, 2025: Brena \nJuly 4\, 2025: NO PERFORMANCE DUE TO HOLIDAY \nJuly 11\, 2025: Laura Rains \nJuly 18\, 2025: Itchycoo Park \nJuly 25\, 2025: No concert at Plaza. In collaboration with Hastings Live\, Hastings Performing Arts Center (HPAC)\, Thornapple Arts Council (T.A.C.)\, and the Grand Rapids Symphony\, the “Back to the Future” ticketed performance will be held at the HPAC \nAugust 1\, 2025: The Soul Syndicate \nAugust 8\, 2025: Mama’s Hot Sauce \nAugust 15\, 2025: Women of Country
URL:https://www.hastingsmi.gov/event/friday-night-features-8/2025-06-06
LOCATION:Thornapple Plaza\, 301 E State St\, Hastings\, MI\, 49058\, United States
CATEGORIES:City of Hastings Event,Community Event
END:VEVENT
BEGIN:VEVENT
DTSTART;TZID=America/Detroit:20250607T090000
DTEND;TZID=America/Detroit:20250607T120000
DTSTAMP:20260423T130231
CREATED:20250519T140310Z
LAST-MODIFIED:20250519T140310Z
UID:10002763-1749286800-1749297600@www.hastingsmi.gov
SUMMARY:Very Barry Family Event
DESCRIPTION:
URL:https://www.hastingsmi.gov/event/very-barry-family-event
LOCATION:Tyden Park\, 304 N Broadway St\, Hastings\, MI\, 49058\, United States
CATEGORIES:City of Hastings Event,Community Event
END:VEVENT
BEGIN:VEVENT
DTSTART;TZID=America/Detroit:20250607T090000
DTEND;TZID=America/Detroit:20250607T130000
DTSTAMP:20260423T130231
CREATED:20250507T164334Z
LAST-MODIFIED:20250507T164334Z
UID:10002598-1749286800-1749301200@www.hastingsmi.gov
SUMMARY:Farmers Market
DESCRIPTION:
URL:https://www.hastingsmi.gov/event/farmers-market-3/2025-06-07
LOCATION:Courthouse Lawn\, 220 W State Street\, Hastings\, MI\, 49058\, United States
CATEGORIES:City of Hastings Event,Community Event
END:VEVENT
BEGIN:VEVENT
DTSTART;TZID=America/Detroit:20250609T190000
DTEND;TZID=America/Detroit:20250609T200000
DTSTAMP:20260423T130231
CREATED:20231030T182450Z
LAST-MODIFIED:20240227T154706Z
UID:10001384-1749495600-1749499200@www.hastingsmi.gov
SUMMARY:City Council Meeting
DESCRIPTION:The Hastings City Council meets the 2nd & 4th Monday each month from 7:00 p.m. to 8:00 p.m. in the City Hall Council Chamber.
URL:https://www.hastingsmi.gov/event/city-council-meeting-2-2/2025-06-09
LOCATION:MI
CATEGORIES:Meeting
END:VEVENT
BEGIN:VEVENT
DTSTART;TZID=America/Detroit:20250611T110000
DTEND;TZID=America/Detroit:20250611T160000
DTSTAMP:20260423T130231
CREATED:20250507T164334Z
LAST-MODIFIED:20250507T164334Z
UID:10002599-1749639600-1749657600@www.hastingsmi.gov
SUMMARY:Farmers Market
DESCRIPTION:
URL:https://www.hastingsmi.gov/event/farmers-market-3/2025-06-11
LOCATION:Courthouse Lawn\, 220 W State Street\, Hastings\, MI\, 49058\, United States
CATEGORIES:City of Hastings Event,Community Event
END:VEVENT
BEGIN:VEVENT
DTSTART;TZID=America/Detroit:20250611T140000
DTEND;TZID=America/Detroit:20250611T160000
DTSTAMP:20260423T130231
CREATED:20250522T181027Z
LAST-MODIFIED:20250522T181027Z
UID:10002772-1749650400-1749657600@www.hastingsmi.gov
SUMMARY:Hastings Library Touch-A-Truck Event
DESCRIPTION:Parking Lot 3
URL:https://www.hastingsmi.gov/event/hastings-library-touch-a-truck-event
LOCATION:MI
CATEGORIES:City of Hastings Event,Community Event
END:VEVENT
BEGIN:VEVENT
DTSTART;TZID=America/Detroit:20250611T193000
DTEND;TZID=America/Detroit:20250611T204500
DTSTAMP:20260423T130231
CREATED:20250507T151326Z
LAST-MODIFIED:20250522T145239Z
UID:10002556-1749670200-1749674700@www.hastingsmi.gov
SUMMARY:Wednesday Community Concerts
DESCRIPTION:June 4\, 2025: City Band-Band Favorites \nJune 11\, 2025: City Band-Broadway Hits! \nJune 18\, 2025: City Band-A Night at the Movies \nJune 25\, 2025: City Band-Chart Toppers \nJuly 2\, 2025: City Band-11th Annual Tribute to America! \nJuly 9\, 2025: TJO \nJuly 16\, 2025: Ellis & M.E. \nJuly 23\, 2025: Grumpy Old Men \nJuly 30\, 2025: Jesse & Kody \nAugust 6\, 2025: Otsego Jazz Ensemble \nAugust 13\, 2025: Seth Brown Duo
URL:https://www.hastingsmi.gov/event/wednesday-community-concerts/2025-06-11
LOCATION:Thornapple Plaza\, 301 E State St\, Hastings\, MI\, 49058\, United States
CATEGORIES:City of Hastings Event,Community Event
END:VEVENT
BEGIN:VEVENT
DTSTART;TZID=America/Detroit:20250612T110000
DTEND;TZID=America/Detroit:20250612T120000
DTSTAMP:20260423T130231
CREATED:20250507T155446Z
LAST-MODIFIED:20250522T142947Z
UID:10002560-1749726000-1749729600@www.hastingsmi.gov
SUMMARY:Playing at the Plaza 2025: Children's Entertainment Series
DESCRIPTION:June 12\, 2025: Bubbles ‘R Fun \nJune 19\, 2025: Generation Pound \nJune 26\, 2025: Stormy the Magician \nJuly 3\, 2025: BenJammin \nJuly 10\, 2025: Ben Traverse \nJuly 17\, 2025: Chuck Clark Juggling (Rufus the Dufus) \nJuly 24\, 2025: Palamazoo (Susan Harrison) \nJuly 31\, 2025: Stormy’s Foam Party \nAugust 7\, 2025: Tunes ‘N Tales \nAugust 14\, 2025: John Ball Zoo
URL:https://www.hastingsmi.gov/event/playing-at-the-plaza-2025-childrens-entertainment-series/2025-06-12
LOCATION:Thornapple Plaza\, 301 E State St\, Hastings\, MI\, 49058\, United States
CATEGORIES:City of Hastings Event,Community Event
END:VEVENT
BEGIN:VEVENT
DTSTART;VALUE=DATE:20250613
DTEND;VALUE=DATE:20250615
DTSTAMP:20260423T130231
CREATED:20250507T165014Z
LAST-MODIFIED:20250507T165014Z
UID:10002631-1749772800-1749945599@www.hastingsmi.gov
SUMMARY:Rock the Country
DESCRIPTION:
URL:https://www.hastingsmi.gov/event/rock-the-country
LOCATION:Barry County Fairgrounds\, 1350 M-37\, Hastings\, Michigan\, 49058
CATEGORIES:Community Event
END:VEVENT
BEGIN:VEVENT
DTSTART;TZID=America/Detroit:20250613T120000
DTEND;TZID=America/Detroit:20250613T130000
DTSTAMP:20260423T130231
CREATED:20250507T160439Z
LAST-MODIFIED:20250507T162519Z
UID:10002564-1749816000-1749819600@www.hastingsmi.gov
SUMMARY:Fridays at the Fountain
DESCRIPTION:June 6\, 2025: Ben Traverse Trio \nJune 13\, 2025: Michael Fahey \nJune 20\, 2025: Ben Traverse \nJune 27\, 2025: Jacob McLeod
URL:https://www.hastingsmi.gov/event/fridays-at-the-fountain-2/2025-06-13
LOCATION:Courthouse Lawn\, 220 W State Street\, Hastings\, MI\, 49058\, United States
CATEGORIES:Community Event
END:VEVENT
BEGIN:VEVENT
DTSTART;TZID=America/Detroit:20250613T193000
DTEND;TZID=America/Detroit:20250613T204500
DTSTAMP:20260423T130231
CREATED:20250507T162310Z
LAST-MODIFIED:20250522T143311Z
UID:10002581-1749843000-1749847500@www.hastingsmi.gov
SUMMARY:Friday Night Features
DESCRIPTION:June 6\, 2025: Rebel Eves \nJune 13\, 2025: Fat Animals \nJune 20\, 2025: Stone Street Revival \nJune 27\, 2025: Brena \nJuly 4\, 2025: NO PERFORMANCE DUE TO HOLIDAY \nJuly 11\, 2025: Laura Rains \nJuly 18\, 2025: Itchycoo Park \nJuly 25\, 2025: No concert at Plaza. In collaboration with Hastings Live\, Hastings Performing Arts Center (HPAC)\, Thornapple Arts Council (T.A.C.)\, and the Grand Rapids Symphony\, the “Back to the Future” ticketed performance will be held at the HPAC \nAugust 1\, 2025: The Soul Syndicate \nAugust 8\, 2025: Mama’s Hot Sauce \nAugust 15\, 2025: Women of Country
URL:https://www.hastingsmi.gov/event/friday-night-features-8/2025-06-13
LOCATION:Thornapple Plaza\, 301 E State St\, Hastings\, MI\, 49058\, United States
CATEGORIES:City of Hastings Event,Community Event
END:VEVENT
BEGIN:VEVENT
DTSTART;TZID=America/Detroit:20250614T090000
DTEND;TZID=America/Detroit:20250614T130000
DTSTAMP:20260423T130231
CREATED:20250507T164334Z
LAST-MODIFIED:20250507T164334Z
UID:10002600-1749891600-1749906000@www.hastingsmi.gov
SUMMARY:Farmers Market
DESCRIPTION:
URL:https://www.hastingsmi.gov/event/farmers-market-3/2025-06-14
LOCATION:Courthouse Lawn\, 220 W State Street\, Hastings\, MI\, 49058\, United States
CATEGORIES:City of Hastings Event,Community Event
END:VEVENT
BEGIN:VEVENT
DTSTART;TZID=America/Detroit:20250614T120000
DTEND;TZID=America/Detroit:20250614T140000
DTSTAMP:20260423T130231
CREATED:20250530T184622Z
LAST-MODIFIED:20250530T184622Z
UID:10002774-1749902400-1749909600@www.hastingsmi.gov
SUMMARY:MI Barry County Indivisible Demonstration Event
DESCRIPTION:
URL:https://www.hastingsmi.gov/event/mi-barry-county-indivisible-demonstration-event
LOCATION:Thornapple Plaza\, 301 E State St\, Hastings\, MI\, 49058\, United States
CATEGORIES:City of Hastings Event,Community Event
END:VEVENT
BEGIN:VEVENT
DTSTART;TZID=America/Detroit:20250615T080000
DTEND;TZID=America/Detroit:20250615T160000
DTSTAMP:20260423T130231
CREATED:20250602T150731Z
LAST-MODIFIED:20250602T150731Z
UID:10002775-1749974400-1750003200@www.hastingsmi.gov
SUMMARY:Father's Day Car Show - Charlton Park
DESCRIPTION:Held from 8am – 4pm rain or shine. Admission is Adults $5\, Kids 12 and under free. CASH ONLY. There is FREE parking offered off of River Rd.\, with tram service to the show! \nExhibitor Event Day – $20 per car (includes passengers in car only)\, registration is only onsite. \n**Recreation Area Closed (beach and launch) until 5 pm for Father’s Day Car Show.**
URL:https://www.hastingsmi.gov/event/fathers-day-car-show-charlton-park
LOCATION:Charlton Park\, 2545 S. Charlton Park Rd.\, Hastings\, MI\, 49017\, United States
CATEGORIES:Community Event
END:VEVENT
BEGIN:VEVENT
DTSTART;TZID=America/Detroit:20250617T190000
DTEND;TZID=America/Detroit:20250617T200000
DTSTAMP:20260423T130231
CREATED:20230314T170317Z
LAST-MODIFIED:20230314T170319Z
UID:10001265-1750186800-1750190400@www.hastingsmi.gov
SUMMARY:Zoning Board of Appeals
DESCRIPTION:Meetings are the 3rd Tuesday of the month at 7:00 PM in Council Chambers at City Hall.
URL:https://www.hastingsmi.gov/event/zoning-board-of-appeals/2025-06-17
LOCATION:MI
CATEGORIES:Meeting
END:VEVENT
BEGIN:VEVENT
DTSTART;TZID=America/Detroit:20250618T103000
DTEND;TZID=America/Detroit:20250618T113000
DTSTAMP:20260423T130231
CREATED:20231030T184449Z
LAST-MODIFIED:20240226T145324Z
UID:10001928-1750242600-1750246200@www.hastingsmi.gov
SUMMARY:Park & Recreation Committee
DESCRIPTION:
URL:https://www.hastingsmi.gov/event/park-recreation-committee-2/2025-06-18
LOCATION:Hastings City Hall\, 2nd Fl Conference Rm\, 201 E. State St\, Hastings\, MI\, 49058
CATEGORIES:Community Event,Meeting
END:VEVENT
BEGIN:VEVENT
DTSTART;TZID=America/Detroit:20250618T110000
DTEND;TZID=America/Detroit:20250618T160000
DTSTAMP:20260423T130231
CREATED:20250507T164334Z
LAST-MODIFIED:20250507T164334Z
UID:10002601-1750244400-1750262400@www.hastingsmi.gov
SUMMARY:Farmers Market
DESCRIPTION:
URL:https://www.hastingsmi.gov/event/farmers-market-3/2025-06-18
LOCATION:Courthouse Lawn\, 220 W State Street\, Hastings\, MI\, 49058\, United States
CATEGORIES:City of Hastings Event,Community Event
END:VEVENT
BEGIN:VEVENT
DTSTART;TZID=America/Detroit:20250618T193000
DTEND;TZID=America/Detroit:20250618T204500
DTSTAMP:20260423T130231
CREATED:20250507T151326Z
LAST-MODIFIED:20250522T145239Z
UID:10002557-1750275000-1750279500@www.hastingsmi.gov
SUMMARY:Wednesday Community Concerts
DESCRIPTION:June 4\, 2025: City Band-Band Favorites \nJune 11\, 2025: City Band-Broadway Hits! \nJune 18\, 2025: City Band-A Night at the Movies \nJune 25\, 2025: City Band-Chart Toppers \nJuly 2\, 2025: City Band-11th Annual Tribute to America! \nJuly 9\, 2025: TJO \nJuly 16\, 2025: Ellis & M.E. \nJuly 23\, 2025: Grumpy Old Men \nJuly 30\, 2025: Jesse & Kody \nAugust 6\, 2025: Otsego Jazz Ensemble \nAugust 13\, 2025: Seth Brown Duo
URL:https://www.hastingsmi.gov/event/wednesday-community-concerts/2025-06-18
LOCATION:Thornapple Plaza\, 301 E State St\, Hastings\, MI\, 49058\, United States
CATEGORIES:City of Hastings Event,Community Event
END:VEVENT
BEGIN:VEVENT
DTSTART;TZID=America/Detroit:20250619T080000
DTEND;TZID=America/Detroit:20250619T090000
DTSTAMP:20260423T130231
CREATED:20231219T172149Z
LAST-MODIFIED:20231219T175002Z
UID:10001145-1750320000-1750323600@www.hastingsmi.gov
SUMMARY:Downtown Development Authority
DESCRIPTION:DDA Meetings occur on the third Thursday of every month in the conference room on the 2nd floor of City Hall.
URL:https://www.hastingsmi.gov/event/downtown-development-authority-2/2025-06-19
LOCATION:MI
CATEGORIES:Meeting
END:VEVENT
BEGIN:VEVENT
DTSTART;TZID=America/Detroit:20250619T110000
DTEND;TZID=America/Detroit:20250619T120000
DTSTAMP:20260423T130231
CREATED:20250507T155446Z
LAST-MODIFIED:20250522T142947Z
UID:10002561-1750330800-1750334400@www.hastingsmi.gov
SUMMARY:Playing at the Plaza 2025: Children's Entertainment Series
DESCRIPTION:June 12\, 2025: Bubbles ‘R Fun \nJune 19\, 2025: Generation Pound \nJune 26\, 2025: Stormy the Magician \nJuly 3\, 2025: BenJammin \nJuly 10\, 2025: Ben Traverse \nJuly 17\, 2025: Chuck Clark Juggling (Rufus the Dufus) \nJuly 24\, 2025: Palamazoo (Susan Harrison) \nJuly 31\, 2025: Stormy’s Foam Party \nAugust 7\, 2025: Tunes ‘N Tales \nAugust 14\, 2025: John Ball Zoo
URL:https://www.hastingsmi.gov/event/playing-at-the-plaza-2025-childrens-entertainment-series/2025-06-19
LOCATION:Thornapple Plaza\, 301 E State St\, Hastings\, MI\, 49058\, United States
CATEGORIES:City of Hastings Event,Community Event
END:VEVENT
BEGIN:VEVENT
DTSTART;TZID=America/Detroit:20250620T120000
DTEND;TZID=America/Detroit:20250620T130000
DTSTAMP:20260423T130231
CREATED:20250507T160439Z
LAST-MODIFIED:20250507T162519Z
UID:10002565-1750420800-1750424400@www.hastingsmi.gov
SUMMARY:Fridays at the Fountain
DESCRIPTION:June 6\, 2025: Ben Traverse Trio \nJune 13\, 2025: Michael Fahey \nJune 20\, 2025: Ben Traverse \nJune 27\, 2025: Jacob McLeod
URL:https://www.hastingsmi.gov/event/fridays-at-the-fountain-2/2025-06-20
LOCATION:Courthouse Lawn\, 220 W State Street\, Hastings\, MI\, 49058\, United States
CATEGORIES:Community Event
END:VEVENT
BEGIN:VEVENT
DTSTART;TZID=America/Detroit:20250620T193000
DTEND;TZID=America/Detroit:20250620T204500
DTSTAMP:20260423T130231
CREATED:20250507T162310Z
LAST-MODIFIED:20250522T143311Z
UID:10002582-1750447800-1750452300@www.hastingsmi.gov
SUMMARY:Friday Night Features
DESCRIPTION:June 6\, 2025: Rebel Eves \nJune 13\, 2025: Fat Animals \nJune 20\, 2025: Stone Street Revival \nJune 27\, 2025: Brena \nJuly 4\, 2025: NO PERFORMANCE DUE TO HOLIDAY \nJuly 11\, 2025: Laura Rains \nJuly 18\, 2025: Itchycoo Park \nJuly 25\, 2025: No concert at Plaza. In collaboration with Hastings Live\, Hastings Performing Arts Center (HPAC)\, Thornapple Arts Council (T.A.C.)\, and the Grand Rapids Symphony\, the “Back to the Future” ticketed performance will be held at the HPAC \nAugust 1\, 2025: The Soul Syndicate \nAugust 8\, 2025: Mama’s Hot Sauce \nAugust 15\, 2025: Women of Country
URL:https://www.hastingsmi.gov/event/friday-night-features-8/2025-06-20
LOCATION:Thornapple Plaza\, 301 E State St\, Hastings\, MI\, 49058\, United States
CATEGORIES:City of Hastings Event,Community Event
END:VEVENT
BEGIN:VEVENT
DTSTART;TZID=America/Detroit:20250621T090000
DTEND;TZID=America/Detroit:20250621T130000
DTSTAMP:20260423T130231
CREATED:20250507T164334Z
LAST-MODIFIED:20250507T164334Z
UID:10002602-1750496400-1750510800@www.hastingsmi.gov
SUMMARY:Farmers Market
DESCRIPTION:
URL:https://www.hastingsmi.gov/event/farmers-market-3/2025-06-21
LOCATION:Courthouse Lawn\, 220 W State Street\, Hastings\, MI\, 49058\, United States
CATEGORIES:City of Hastings Event,Community Event
END:VEVENT
BEGIN:VEVENT
DTSTART;TZID=America/Detroit:20250622T090000
DTEND;TZID=America/Detroit:20250622T150000
DTSTAMP:20260423T130231
CREATED:20250617T193834Z
LAST-MODIFIED:20250617T193834Z
UID:10002777-1750582800-1750604400@www.hastingsmi.gov
SUMMARY:Hastings Jingle & Mingle Golf Scramble and Ball Drop
DESCRIPTION:
URL:https://www.hastingsmi.gov/event/hastings-jingle-mingle-golf-scramble-and-ball-drop
LOCATION:Legacy Golf Course\, 1550 N Broadway St\, Hastings\, MI\, 49058\, United States
CATEGORIES:City of Hastings Event,Community Event
END:VEVENT
BEGIN:VEVENT
DTSTART;TZID=America/Detroit:20250623T190000
DTEND;TZID=America/Detroit:20250623T200000
DTSTAMP:20260423T130231
CREATED:20250508T204305Z
LAST-MODIFIED:20250512T132056Z
UID:10002703-1750705200-1750708800@www.hastingsmi.gov
SUMMARY:City Council Meeting
DESCRIPTION:The Hastings City Council meets the 2nd & 4th Monday each month at 7:00 p.m. in the City Hall Council Chamber.
URL:https://www.hastingsmi.gov/event/city-council-meeting-6/2025-06-23
LOCATION:MI
CATEGORIES:Meeting
END:VEVENT
END:VCALENDAR