BEGIN:VCALENDAR
VERSION:2.0
PRODID:-//City of Hastings - ECPv6.15.20//NONSGML v1.0//EN
CALSCALE:GREGORIAN
METHOD:PUBLISH
X-WR-CALNAME:City of Hastings
X-ORIGINAL-URL:https://www.hastingsmi.gov
X-WR-CALDESC:Events for City of Hastings
REFRESH-INTERVAL;VALUE=DURATION:PT1H
X-Robots-Tag:noindex
X-PUBLISHED-TTL:PT1H
BEGIN:VTIMEZONE
TZID:America/Detroit
BEGIN:DAYLIGHT
TZOFFSETFROM:-0500
TZOFFSETTO:-0400
TZNAME:EDT
DTSTART:20240310T070000
END:DAYLIGHT
BEGIN:STANDARD
TZOFFSETFROM:-0400
TZOFFSETTO:-0500
TZNAME:EST
DTSTART:20241103T060000
END:STANDARD
BEGIN:DAYLIGHT
TZOFFSETFROM:-0500
TZOFFSETTO:-0400
TZNAME:EDT
DTSTART:20250309T070000
END:DAYLIGHT
BEGIN:STANDARD
TZOFFSETFROM:-0400
TZOFFSETTO:-0500
TZNAME:EST
DTSTART:20251102T060000
END:STANDARD
BEGIN:DAYLIGHT
TZOFFSETFROM:-0500
TZOFFSETTO:-0400
TZNAME:EDT
DTSTART:20260308T070000
END:DAYLIGHT
BEGIN:STANDARD
TZOFFSETFROM:-0400
TZOFFSETTO:-0500
TZNAME:EST
DTSTART:20261101T060000
END:STANDARD
END:VTIMEZONE
BEGIN:VEVENT
DTSTART;TZID=America/Detroit:20250505T163000
DTEND;TZID=America/Detroit:20250505T173000
DTSTAMP:20260423T143214
CREATED:20240227T160218Z
LAST-MODIFIED:20240227T160219Z
UID:10001203-1746462600-1746466200@www.hastingsmi.gov
SUMMARY:Library Board
DESCRIPTION:Meetings are the 1st Monday of the month at 4:30 PM in the Library.
URL:https://www.hastingsmi.gov/event/library-board-2/2025-05-05
LOCATION:MI
CATEGORIES:Meeting
END:VEVENT
BEGIN:VEVENT
DTSTART;TZID=America/Detroit:20250505T190000
DTEND;TZID=America/Detroit:20250505T200000
DTSTAMP:20260423T143214
CREATED:20231219T163036Z
LAST-MODIFIED:20240227T155133Z
UID:10001563-1746471600-1746475200@www.hastingsmi.gov
SUMMARY:Planning Commission Meeting
DESCRIPTION:Meetings are the 1st Monday of the month at 7:00 PM in Council Chambers at City Hall.
URL:https://www.hastingsmi.gov/event/planning-commission-meeting-2/2025-05-05
LOCATION:MI
CATEGORIES:Meeting
END:VEVENT
BEGIN:VEVENT
DTSTART;TZID=America/Detroit:20250507T110000
DTEND;TZID=America/Detroit:20250507T160000
DTSTAMP:20260423T143214
CREATED:20250507T164334Z
LAST-MODIFIED:20250507T164334Z
UID:10002589-1746615600-1746633600@www.hastingsmi.gov
SUMMARY:Farmers Market
DESCRIPTION:
URL:https://www.hastingsmi.gov/event/farmers-market-3/2025-05-07
LOCATION:Courthouse Lawn\, 220 W State Street\, Hastings\, MI\, 49058\, United States
CATEGORIES:City of Hastings Event,Community Event
END:VEVENT
BEGIN:VEVENT
DTSTART;TZID=America/Detroit:20250510T090000
DTEND;TZID=America/Detroit:20250510T130000
DTSTAMP:20260423T143214
CREATED:20250507T164334Z
LAST-MODIFIED:20250507T164334Z
UID:10002590-1746867600-1746882000@www.hastingsmi.gov
SUMMARY:Farmers Market
DESCRIPTION:
URL:https://www.hastingsmi.gov/event/farmers-market-3/2025-05-10
LOCATION:Courthouse Lawn\, 220 W State Street\, Hastings\, MI\, 49058\, United States
CATEGORIES:City of Hastings Event,Community Event
END:VEVENT
BEGIN:VEVENT
DTSTART;TZID=America/Detroit:20250510T180000
DTEND;TZID=America/Detroit:20250510T220000
DTSTAMP:20260423T143214
CREATED:20250507T145010Z
LAST-MODIFIED:20250507T145010Z
UID:10002551-1746900000-1746914400@www.hastingsmi.gov
SUMMARY:Downtown Block Parties
DESCRIPTION:
URL:https://www.hastingsmi.gov/event/downtown-block-parties/2025-05-10
LOCATION:MI
CATEGORIES:City of Hastings Event,Community Event
END:VEVENT
BEGIN:VEVENT
DTSTART;TZID=America/Detroit:20250512T183000
DTEND;TZID=America/Detroit:20250512T190000
DTSTAMP:20260423T143214
CREATED:20250508T204001Z
LAST-MODIFIED:20250508T204001Z
UID:10002641-1747074600-1747076400@www.hastingsmi.gov
SUMMARY:City Council Workshop Meeting
DESCRIPTION:
URL:https://www.hastingsmi.gov/event/city-council-workshop-meeting
LOCATION:MI
CATEGORIES:Meeting
END:VEVENT
BEGIN:VEVENT
DTSTART;TZID=America/Detroit:20250512T190000
DTEND;TZID=America/Detroit:20250512T200000
DTSTAMP:20260423T143214
CREATED:20231030T182450Z
LAST-MODIFIED:20240227T154706Z
UID:10001383-1747076400-1747080000@www.hastingsmi.gov
SUMMARY:City Council Meeting
DESCRIPTION:The Hastings City Council meets the 2nd & 4th Monday each month from 7:00 p.m. to 8:00 p.m. in the City Hall Council Chamber.
URL:https://www.hastingsmi.gov/event/city-council-meeting-2-2/2025-05-12
LOCATION:MI
CATEGORIES:Meeting
END:VEVENT
BEGIN:VEVENT
DTSTART;TZID=America/Detroit:20250514T110000
DTEND;TZID=America/Detroit:20250514T160000
DTSTAMP:20260423T143214
CREATED:20250507T164334Z
LAST-MODIFIED:20250507T164334Z
UID:10002591-1747220400-1747238400@www.hastingsmi.gov
SUMMARY:Farmers Market
DESCRIPTION:
URL:https://www.hastingsmi.gov/event/farmers-market-3/2025-05-14
LOCATION:Courthouse Lawn\, 220 W State Street\, Hastings\, MI\, 49058\, United States
CATEGORIES:City of Hastings Event,Community Event
END:VEVENT
BEGIN:VEVENT
DTSTART;TZID=America/Detroit:20250515T080000
DTEND;TZID=America/Detroit:20250515T090000
DTSTAMP:20260423T143214
CREATED:20231219T172149Z
LAST-MODIFIED:20231219T175002Z
UID:10001144-1747296000-1747299600@www.hastingsmi.gov
SUMMARY:Downtown Development Authority
DESCRIPTION:DDA Meetings occur on the third Thursday of every month in the conference room on the 2nd floor of City Hall.
URL:https://www.hastingsmi.gov/event/downtown-development-authority-2/2025-05-15
LOCATION:MI
CATEGORIES:Meeting
END:VEVENT
BEGIN:VEVENT
DTSTART;TZID=America/Detroit:20250517T090000
DTEND;TZID=America/Detroit:20250517T130000
DTSTAMP:20260423T143214
CREATED:20250507T164334Z
LAST-MODIFIED:20250507T164334Z
UID:10002592-1747472400-1747486800@www.hastingsmi.gov
SUMMARY:Farmers Market
DESCRIPTION:
URL:https://www.hastingsmi.gov/event/farmers-market-3/2025-05-17
LOCATION:Courthouse Lawn\, 220 W State Street\, Hastings\, MI\, 49058\, United States
CATEGORIES:City of Hastings Event,Community Event
END:VEVENT
BEGIN:VEVENT
DTSTART;TZID=America/Detroit:20250517T100000
DTEND;TZID=America/Detroit:20250517T140000
DTSTAMP:20260423T143214
CREATED:20250320T161956Z
LAST-MODIFIED:20250320T161956Z
UID:10002547-1747476000-1747490400@www.hastingsmi.gov
SUMMARY:Spring Fling at Bob King
DESCRIPTION:SPRING FLING AT BOB KING
URL:https://www.hastingsmi.gov/event/spring-fling-at-bob-king
LOCATION:MI
CATEGORIES:City of Hastings Event,Community Event
END:VEVENT
BEGIN:VEVENT
DTSTART;TZID=America/Detroit:20250520T190000
DTEND;TZID=America/Detroit:20250520T200000
DTSTAMP:20260423T143214
CREATED:20230314T170317Z
LAST-MODIFIED:20230314T170319Z
UID:10001264-1747767600-1747771200@www.hastingsmi.gov
SUMMARY:Zoning Board of Appeals
DESCRIPTION:Meetings are the 3rd Tuesday of the month at 7:00 PM in Council Chambers at City Hall.
URL:https://www.hastingsmi.gov/event/zoning-board-of-appeals/2025-05-20
LOCATION:MI
CATEGORIES:Meeting
END:VEVENT
BEGIN:VEVENT
DTSTART;TZID=America/Detroit:20250521T103000
DTEND;TZID=America/Detroit:20250521T113000
DTSTAMP:20260423T143214
CREATED:20231030T184449Z
LAST-MODIFIED:20240226T145324Z
UID:10001927-1747823400-1747827000@www.hastingsmi.gov
SUMMARY:Park & Recreation Committee
DESCRIPTION:
URL:https://www.hastingsmi.gov/event/park-recreation-committee-2/2025-05-21
LOCATION:Hastings City Hall\, 2nd Fl Conference Rm\, 201 E. State St\, Hastings\, MI\, 49058
CATEGORIES:Community Event,Meeting
END:VEVENT
BEGIN:VEVENT
DTSTART;TZID=America/Detroit:20250521T110000
DTEND;TZID=America/Detroit:20250521T160000
DTSTAMP:20260423T143214
CREATED:20250507T164334Z
LAST-MODIFIED:20250507T164334Z
UID:10002593-1747825200-1747843200@www.hastingsmi.gov
SUMMARY:Farmers Market
DESCRIPTION:
URL:https://www.hastingsmi.gov/event/farmers-market-3/2025-05-21
LOCATION:Courthouse Lawn\, 220 W State Street\, Hastings\, MI\, 49058\, United States
CATEGORIES:City of Hastings Event,Community Event
END:VEVENT
BEGIN:VEVENT
DTSTART;TZID=America/Detroit:20250522T080000
DTEND;TZID=America/Detroit:20250522T090000
DTSTAMP:20260423T143214
CREATED:20240515T144437Z
LAST-MODIFIED:20240515T150433Z
UID:10002300-1747900800-1747904400@www.hastingsmi.gov
SUMMARY:BRA Meeting
DESCRIPTION:8:00 a.m.
URL:https://www.hastingsmi.gov/event/bra-meeting/2025-05-22
LOCATION:MI
CATEGORIES:Meeting
END:VEVENT
BEGIN:VEVENT
DTSTART;TZID=America/Detroit:20250522T183000
DTEND;TZID=America/Detroit:20250522T200000
DTSTAMP:20260423T143214
CREATED:20250205T173933Z
LAST-MODIFIED:20250205T173933Z
UID:10002427-1747938600-1747944000@www.hastingsmi.gov
SUMMARY:BIRCH Meeting
DESCRIPTION:
URL:https://www.hastingsmi.gov/event/birch-meeting-2
LOCATION:Hastings Fire Department\, 110 E Mill St\, Hastings\, MI\, 49058\, United States
CATEGORIES:Meeting
END:VEVENT
BEGIN:VEVENT
DTSTART;TZID=America/Detroit:20250523T183000
DTEND;TZID=America/Detroit:20250523T213000
DTSTAMP:20260423T143214
CREATED:20250522T181228Z
LAST-MODIFIED:20250522T181228Z
UID:10002773-1748025000-1748035800@www.hastingsmi.gov
SUMMARY:American Legion Post 45 & Barry Community Foundation Happiness for Veterans Concert
DESCRIPTION:
URL:https://www.hastingsmi.gov/event/american-legion-post-45-barry-community-foundation-happiness-for-veterans-concert
LOCATION:Thornapple Plaza\, 301 E State St\, Hastings\, MI\, 49058\, United States
CATEGORIES:City of Hastings Event,Community Event
END:VEVENT
BEGIN:VEVENT
DTSTART;TZID=America/Detroit:20250524T090000
DTEND;TZID=America/Detroit:20250524T130000
DTSTAMP:20260423T143214
CREATED:20250507T164334Z
LAST-MODIFIED:20250507T164334Z
UID:10002594-1748077200-1748091600@www.hastingsmi.gov
SUMMARY:Farmers Market
DESCRIPTION:
URL:https://www.hastingsmi.gov/event/farmers-market-3/2025-05-24
LOCATION:Courthouse Lawn\, 220 W State Street\, Hastings\, MI\, 49058\, United States
CATEGORIES:City of Hastings Event,Community Event
END:VEVENT
BEGIN:VEVENT
DTSTART;VALUE=DATE:20250526
DTEND;VALUE=DATE:20250527
DTSTAMP:20260423T143214
CREATED:20250507T154942Z
LAST-MODIFIED:20250507T154942Z
UID:10002559-1748217600-1748303999@www.hastingsmi.gov
SUMMARY:City Hall Closure
DESCRIPTION:
URL:https://www.hastingsmi.gov/event/city-hall-closure
LOCATION:MI
CATEGORIES:Closure
END:VEVENT
BEGIN:VEVENT
DTSTART;TZID=America/Detroit:20250526T093000
DTEND;TZID=America/Detroit:20250526T120000
DTSTAMP:20260423T143214
CREATED:20250507T150359Z
LAST-MODIFIED:20250507T150359Z
UID:10002554-1748251800-1748260800@www.hastingsmi.gov
SUMMARY:Memorial Day Parade
DESCRIPTION:
URL:https://www.hastingsmi.gov/event/memorial-day-parade-2
LOCATION:MI
CATEGORIES:City of Hastings Event,Community Event
END:VEVENT
BEGIN:VEVENT
DTSTART;TZID=America/Detroit:20250527T190000
DTEND;TZID=America/Detroit:20250527T200000
DTSTAMP:20260423T143214
CREATED:20250508T204305Z
LAST-MODIFIED:20250512T132056Z
UID:10002762-1748372400-1748376000@www.hastingsmi.gov
SUMMARY:City Council Meeting
DESCRIPTION:The Hastings City Council meets the 2nd & 4th Monday each month at 7:00 p.m. in the City Hall Council Chamber.
URL:https://www.hastingsmi.gov/event/city-council-meeting-6/2025-05-27
LOCATION:MI
CATEGORIES:Meeting
END:VEVENT
BEGIN:VEVENT
DTSTART;TZID=America/Detroit:20250528T110000
DTEND;TZID=America/Detroit:20250528T160000
DTSTAMP:20260423T143214
CREATED:20250507T164334Z
LAST-MODIFIED:20250507T164334Z
UID:10002595-1748430000-1748448000@www.hastingsmi.gov
SUMMARY:Farmers Market
DESCRIPTION:
URL:https://www.hastingsmi.gov/event/farmers-market-3/2025-05-28
LOCATION:Courthouse Lawn\, 220 W State Street\, Hastings\, MI\, 49058\, United States
CATEGORIES:City of Hastings Event,Community Event
END:VEVENT
BEGIN:VEVENT
DTSTART;TZID=America/Detroit:20250528T163000
DTEND;TZID=America/Detroit:20250528T173000
DTSTAMP:20260423T143214
CREATED:20250303T135433Z
LAST-MODIFIED:20250303T135433Z
UID:10002489-1748449800-1748453400@www.hastingsmi.gov
SUMMARY:City/County Airport Authority Meeting
DESCRIPTION:Meetings are the 4th Wednesday of the month at 4:30 PM at the Hastings Airport\, 2505 Murphy Dr. \n 
URL:https://www.hastingsmi.gov/event/city-county-airport-authority-meeting-3-2-2/2025-05-28
LOCATION:MI
CATEGORIES:Meeting
END:VEVENT
BEGIN:VEVENT
DTSTART;TZID=America/Detroit:20250531T090000
DTEND;TZID=America/Detroit:20250531T130000
DTSTAMP:20260423T143214
CREATED:20250507T164334Z
LAST-MODIFIED:20250507T164334Z
UID:10002596-1748682000-1748696400@www.hastingsmi.gov
SUMMARY:Farmers Market
DESCRIPTION:
URL:https://www.hastingsmi.gov/event/farmers-market-3/2025-05-31
LOCATION:Courthouse Lawn\, 220 W State Street\, Hastings\, MI\, 49058\, United States
CATEGORIES:City of Hastings Event,Community Event
END:VEVENT
END:VCALENDAR