BEGIN:VCALENDAR
VERSION:2.0
PRODID:-//City of Hastings - ECPv6.15.20//NONSGML v1.0//EN
CALSCALE:GREGORIAN
METHOD:PUBLISH
X-WR-CALNAME:City of Hastings
X-ORIGINAL-URL:https://www.hastingsmi.gov
X-WR-CALDESC:Events for City of Hastings
REFRESH-INTERVAL;VALUE=DURATION:PT1H
X-Robots-Tag:noindex
X-PUBLISHED-TTL:PT1H
BEGIN:VTIMEZONE
TZID:America/Detroit
BEGIN:DAYLIGHT
TZOFFSETFROM:-0500
TZOFFSETTO:-0400
TZNAME:EDT
DTSTART:20240310T070000
END:DAYLIGHT
BEGIN:STANDARD
TZOFFSETFROM:-0400
TZOFFSETTO:-0500
TZNAME:EST
DTSTART:20241103T060000
END:STANDARD
BEGIN:DAYLIGHT
TZOFFSETFROM:-0500
TZOFFSETTO:-0400
TZNAME:EDT
DTSTART:20250309T070000
END:DAYLIGHT
BEGIN:STANDARD
TZOFFSETFROM:-0400
TZOFFSETTO:-0500
TZNAME:EST
DTSTART:20251102T060000
END:STANDARD
BEGIN:DAYLIGHT
TZOFFSETFROM:-0500
TZOFFSETTO:-0400
TZNAME:EDT
DTSTART:20260308T070000
END:DAYLIGHT
BEGIN:STANDARD
TZOFFSETFROM:-0400
TZOFFSETTO:-0500
TZNAME:EST
DTSTART:20261101T060000
END:STANDARD
END:VTIMEZONE
BEGIN:VEVENT
DTSTART;TZID=America/Detroit:20250407T163000
DTEND;TZID=America/Detroit:20250407T173000
DTSTAMP:20260423T161500
CREATED:20240227T160218Z
LAST-MODIFIED:20240227T160219Z
UID:10001202-1744043400-1744047000@www.hastingsmi.gov
SUMMARY:Library Board
DESCRIPTION:Meetings are the 1st Monday of the month at 4:30 PM in the Library.
URL:https://www.hastingsmi.gov/event/library-board-2/2025-04-07
LOCATION:MI
CATEGORIES:Meeting
END:VEVENT
BEGIN:VEVENT
DTSTART;TZID=America/Detroit:20250407T190000
DTEND;TZID=America/Detroit:20250407T200000
DTSTAMP:20260423T161500
CREATED:20231219T163036Z
LAST-MODIFIED:20240227T155133Z
UID:10001562-1744052400-1744056000@www.hastingsmi.gov
SUMMARY:Planning Commission Meeting
DESCRIPTION:Meetings are the 1st Monday of the month at 7:00 PM in Council Chambers at City Hall.
URL:https://www.hastingsmi.gov/event/planning-commission-meeting-2/2025-04-07
LOCATION:MI
CATEGORIES:Meeting
END:VEVENT
BEGIN:VEVENT
DTSTART;TZID=America/Detroit:20250412T120000
DTEND;TZID=America/Detroit:20250412T190000
DTSTAMP:20260423T161500
CREATED:20250327T163454Z
LAST-MODIFIED:20250327T163454Z
UID:10002550-1744459200-1744484400@www.hastingsmi.gov
SUMMARY:Barry-Roubaix Killer Gravel Bike Race
DESCRIPTION:
URL:https://www.hastingsmi.gov/event/barry-roubaix-killer-gravel-bike-race
LOCATION:MI
CATEGORIES:City of Hastings Event
END:VEVENT
BEGIN:VEVENT
DTSTART;TZID=America/Detroit:20250413T150000
DTEND;TZID=America/Detroit:20250413T170000
DTSTAMP:20260423T161500
CREATED:20241002T160807Z
LAST-MODIFIED:20241002T160851Z
UID:10002385-1744556400-1744563600@www.hastingsmi.gov
SUMMARY:Hastings Performing Arts Center: The Grand Rapids Symphony The Music of Harry Potter
DESCRIPTION:
URL:https://www.hastingsmi.gov/event/hastings-performing-arts-center-10
LOCATION:Hastings Performing Arts Center\, 520 W South St\, Hastings\, MI\, 49058\, United States
CATEGORIES:Community Event
END:VEVENT
BEGIN:VEVENT
DTSTART;TZID=America/Detroit:20250414T190000
DTEND;TZID=America/Detroit:20250414T200000
DTSTAMP:20260423T161500
CREATED:20231030T182450Z
LAST-MODIFIED:20240227T154706Z
UID:10001382-1744657200-1744660800@www.hastingsmi.gov
SUMMARY:City Council Meeting
DESCRIPTION:The Hastings City Council meets the 2nd & 4th Monday each month from 7:00 p.m. to 8:00 p.m. in the City Hall Council Chamber.
URL:https://www.hastingsmi.gov/event/city-council-meeting-2-2/2025-04-14
LOCATION:MI
CATEGORIES:Meeting
END:VEVENT
BEGIN:VEVENT
DTSTART;TZID=America/Detroit:20250415T190000
DTEND;TZID=America/Detroit:20250415T200000
DTSTAMP:20260423T161500
CREATED:20230314T170317Z
LAST-MODIFIED:20230314T170319Z
UID:10001263-1744743600-1744747200@www.hastingsmi.gov
SUMMARY:Zoning Board of Appeals
DESCRIPTION:Meetings are the 3rd Tuesday of the month at 7:00 PM in Council Chambers at City Hall.
URL:https://www.hastingsmi.gov/event/zoning-board-of-appeals/2025-04-15
LOCATION:MI
CATEGORIES:Meeting
END:VEVENT
BEGIN:VEVENT
DTSTART;TZID=America/Detroit:20250416T103000
DTEND;TZID=America/Detroit:20250416T113000
DTSTAMP:20260423T161500
CREATED:20231030T184449Z
LAST-MODIFIED:20240226T145324Z
UID:10001926-1744799400-1744803000@www.hastingsmi.gov
SUMMARY:Park & Recreation Committee
DESCRIPTION:
URL:https://www.hastingsmi.gov/event/park-recreation-committee-2/2025-04-16
LOCATION:Hastings City Hall\, 2nd Fl Conference Rm\, 201 E. State St\, Hastings\, MI\, 49058
CATEGORIES:Community Event,Meeting
END:VEVENT
BEGIN:VEVENT
DTSTART;TZID=America/Detroit:20250417T080000
DTEND;TZID=America/Detroit:20250417T090000
DTSTAMP:20260423T161500
CREATED:20231219T172149Z
LAST-MODIFIED:20231219T175002Z
UID:10001143-1744876800-1744880400@www.hastingsmi.gov
SUMMARY:Downtown Development Authority
DESCRIPTION:DDA Meetings occur on the third Thursday of every month in the conference room on the 2nd floor of City Hall.
URL:https://www.hastingsmi.gov/event/downtown-development-authority-2/2025-04-17
LOCATION:MI
CATEGORIES:Meeting
END:VEVENT
BEGIN:VEVENT
DTSTART;TZID=America/Detroit:20250423T163000
DTEND;TZID=America/Detroit:20250423T173000
DTSTAMP:20260423T161500
CREATED:20250303T135433Z
LAST-MODIFIED:20250303T135433Z
UID:10002430-1745425800-1745429400@www.hastingsmi.gov
SUMMARY:City/County Airport Authority Meeting
DESCRIPTION:Meetings are the 4th Wednesday of the month at 4:30 PM at the Hastings Airport\, 2505 Murphy Dr. \n 
URL:https://www.hastingsmi.gov/event/city-county-airport-authority-meeting-3-2-2/2025-04-23
LOCATION:MI
CATEGORIES:Meeting
END:VEVENT
BEGIN:VEVENT
DTSTART;TZID=America/Detroit:20250424T080000
DTEND;TZID=America/Detroit:20250424T090000
DTSTAMP:20260423T161500
CREATED:20240515T144437Z
LAST-MODIFIED:20240515T150433Z
UID:10002299-1745481600-1745485200@www.hastingsmi.gov
SUMMARY:BRA Meeting
DESCRIPTION:8:00 a.m.
URL:https://www.hastingsmi.gov/event/bra-meeting/2025-04-24
LOCATION:MI
CATEGORIES:Meeting
END:VEVENT
BEGIN:VEVENT
DTSTART;TZID=America/Detroit:20250425T193000
DTEND;TZID=America/Detroit:20250425T213000
DTSTAMP:20260423T161500
CREATED:20241002T160808Z
LAST-MODIFIED:20241002T160908Z
UID:10002386-1745609400-1745616600@www.hastingsmi.gov
SUMMARY:Hastings Performing Arts Center: The Diva Jazz Orchestra
DESCRIPTION:
URL:https://www.hastingsmi.gov/event/hastings-performing-arts-center-11
LOCATION:Hastings Performing Arts Center\, 520 W South St\, Hastings\, MI\, 49058\, United States
CATEGORIES:Community Event
END:VEVENT
BEGIN:VEVENT
DTSTART;TZID=America/Detroit:20250428T190000
DTEND;TZID=America/Detroit:20250428T200000
DTSTAMP:20260423T161500
CREATED:20230314T170750Z
LAST-MODIFIED:20240227T155606Z
UID:10001624-1745866800-1745870400@www.hastingsmi.gov
SUMMARY:City Council Meeting
DESCRIPTION:The Hastings City Council meets the 2nd & 4th Monday each month at 7:00 p.m. in the City Hall Council Chamber.
URL:https://www.hastingsmi.gov/event/city-council-meeting/2025-04-28
LOCATION:MI
CATEGORIES:Meeting
END:VEVENT
END:VCALENDAR