BEGIN:VCALENDAR
VERSION:2.0
PRODID:-//City of Hastings - ECPv6.15.20//NONSGML v1.0//EN
CALSCALE:GREGORIAN
METHOD:PUBLISH
X-WR-CALNAME:City of Hastings
X-ORIGINAL-URL:https://www.hastingsmi.gov
X-WR-CALDESC:Events for City of Hastings
REFRESH-INTERVAL;VALUE=DURATION:PT1H
X-Robots-Tag:noindex
X-PUBLISHED-TTL:PT1H
BEGIN:VTIMEZONE
TZID:America/Detroit
BEGIN:DAYLIGHT
TZOFFSETFROM:-0500
TZOFFSETTO:-0400
TZNAME:EDT
DTSTART:20240310T070000
END:DAYLIGHT
BEGIN:STANDARD
TZOFFSETFROM:-0400
TZOFFSETTO:-0500
TZNAME:EST
DTSTART:20241103T060000
END:STANDARD
BEGIN:DAYLIGHT
TZOFFSETFROM:-0500
TZOFFSETTO:-0400
TZNAME:EDT
DTSTART:20250309T070000
END:DAYLIGHT
BEGIN:STANDARD
TZOFFSETFROM:-0400
TZOFFSETTO:-0500
TZNAME:EST
DTSTART:20251102T060000
END:STANDARD
BEGIN:DAYLIGHT
TZOFFSETFROM:-0500
TZOFFSETTO:-0400
TZNAME:EDT
DTSTART:20260308T070000
END:DAYLIGHT
BEGIN:STANDARD
TZOFFSETFROM:-0400
TZOFFSETTO:-0500
TZNAME:EST
DTSTART:20261101T060000
END:STANDARD
END:VTIMEZONE
BEGIN:VEVENT
DTSTART;TZID=America/Detroit:20250303T163000
DTEND;TZID=America/Detroit:20250303T173000
DTSTAMP:20260423T180025
CREATED:20240227T160218Z
LAST-MODIFIED:20240227T160219Z
UID:10001201-1741019400-1741023000@www.hastingsmi.gov
SUMMARY:Library Board
DESCRIPTION:Meetings are the 1st Monday of the month at 4:30 PM in the Library.
URL:https://www.hastingsmi.gov/event/library-board-2/2025-03-03
LOCATION:MI
CATEGORIES:Meeting
END:VEVENT
BEGIN:VEVENT
DTSTART;TZID=America/Detroit:20250303T190000
DTEND;TZID=America/Detroit:20250303T200000
DTSTAMP:20260423T180025
CREATED:20231219T163036Z
LAST-MODIFIED:20240227T155133Z
UID:10001561-1741028400-1741032000@www.hastingsmi.gov
SUMMARY:Planning Commission Meeting
DESCRIPTION:Meetings are the 1st Monday of the month at 7:00 PM in Council Chambers at City Hall.
URL:https://www.hastingsmi.gov/event/planning-commission-meeting-2/2025-03-03
LOCATION:MI
CATEGORIES:Meeting
END:VEVENT
BEGIN:VEVENT
DTSTART;TZID=America/Detroit:20250310T190000
DTEND;TZID=America/Detroit:20250310T200000
DTSTAMP:20260423T180025
CREATED:20231030T182450Z
LAST-MODIFIED:20240227T154706Z
UID:10001381-1741633200-1741636800@www.hastingsmi.gov
SUMMARY:City Council Meeting
DESCRIPTION:The Hastings City Council meets the 2nd & 4th Monday each month from 7:00 p.m. to 8:00 p.m. in the City Hall Council Chamber.
URL:https://www.hastingsmi.gov/event/city-council-meeting-2-2/2025-03-10
LOCATION:MI
CATEGORIES:Meeting
END:VEVENT
BEGIN:VEVENT
DTSTART;TZID=America/Detroit:20250318T190000
DTEND;TZID=America/Detroit:20250318T200000
DTSTAMP:20260423T180025
CREATED:20230314T170317Z
LAST-MODIFIED:20230314T170319Z
UID:10001262-1742324400-1742328000@www.hastingsmi.gov
SUMMARY:Zoning Board of Appeals
DESCRIPTION:Meetings are the 3rd Tuesday of the month at 7:00 PM in Council Chambers at City Hall.
URL:https://www.hastingsmi.gov/event/zoning-board-of-appeals/2025-03-18
LOCATION:MI
CATEGORIES:Meeting
END:VEVENT
BEGIN:VEVENT
DTSTART;TZID=America/Detroit:20250319T103000
DTEND;TZID=America/Detroit:20250319T113000
DTSTAMP:20260423T180025
CREATED:20231030T184449Z
LAST-MODIFIED:20240226T145324Z
UID:10001925-1742380200-1742383800@www.hastingsmi.gov
SUMMARY:Park & Recreation Committee
DESCRIPTION:
URL:https://www.hastingsmi.gov/event/park-recreation-committee-2/2025-03-19
LOCATION:Hastings City Hall\, 2nd Fl Conference Rm\, 201 E. State St\, Hastings\, MI\, 49058
CATEGORIES:Community Event,Meeting
END:VEVENT
BEGIN:VEVENT
DTSTART;TZID=America/Detroit:20250320T080000
DTEND;TZID=America/Detroit:20250320T090000
DTSTAMP:20260423T180025
CREATED:20231219T172149Z
LAST-MODIFIED:20231219T175002Z
UID:10001142-1742457600-1742461200@www.hastingsmi.gov
SUMMARY:Downtown Development Authority
DESCRIPTION:DDA Meetings occur on the third Thursday of every month in the conference room on the 2nd floor of City Hall.
URL:https://www.hastingsmi.gov/event/downtown-development-authority-2/2025-03-20
LOCATION:MI
CATEGORIES:Meeting
END:VEVENT
BEGIN:VEVENT
DTSTART;TZID=America/Detroit:20250322T190000
DTEND;TZID=America/Detroit:20250322T210000
DTSTAMP:20260423T180025
CREATED:20241002T160806Z
LAST-MODIFIED:20241002T160837Z
UID:10002384-1742670000-1742677200@www.hastingsmi.gov
SUMMARY:Hastings Performing Arts Center: Rhythm is Gonna Get You
DESCRIPTION:
URL:https://www.hastingsmi.gov/event/hastings-performing-arts-center-9
LOCATION:Hastings Performing Arts Center\, 520 W South St\, Hastings\, MI\, 49058\, United States
CATEGORIES:Community Event
END:VEVENT
BEGIN:VEVENT
DTSTART;TZID=America/Detroit:20250324T190000
DTEND;TZID=America/Detroit:20250324T200000
DTSTAMP:20260423T180025
CREATED:20230314T170750Z
LAST-MODIFIED:20240227T155606Z
UID:10001623-1742842800-1742846400@www.hastingsmi.gov
SUMMARY:City Council Meeting
DESCRIPTION:The Hastings City Council meets the 2nd & 4th Monday each month at 7:00 p.m. in the City Hall Council Chamber.
URL:https://www.hastingsmi.gov/event/city-council-meeting/2025-03-24
LOCATION:MI
CATEGORIES:Meeting
END:VEVENT
BEGIN:VEVENT
DTSTART;TZID=America/Detroit:20250325T163000
DTEND;TZID=America/Detroit:20250325T173000
DTSTAMP:20260423T180025
CREATED:20250303T135144Z
LAST-MODIFIED:20250303T135144Z
UID:10001502-1742920200-1742923800@www.hastingsmi.gov
SUMMARY:City/County Airport Authority Meeting
DESCRIPTION:Meetings are the 4th Wednesday of the month at 4:30 PM at the Hastings Airport\, 2505 Murphy Dr. \n 
URL:https://www.hastingsmi.gov/event/city-county-airport-authority-meeting-3-2
LOCATION:MI
CATEGORIES:Meeting
END:VEVENT
BEGIN:VEVENT
DTSTART;TZID=America/Detroit:20250327T080000
DTEND;TZID=America/Detroit:20250327T090000
DTSTAMP:20260423T180025
CREATED:20240515T144437Z
LAST-MODIFIED:20240515T150433Z
UID:10002298-1743062400-1743066000@www.hastingsmi.gov
SUMMARY:BRA Meeting
DESCRIPTION:8:00 a.m.
URL:https://www.hastingsmi.gov/event/bra-meeting/2025-03-27
LOCATION:MI
CATEGORIES:Meeting
END:VEVENT
END:VCALENDAR