BEGIN:VCALENDAR
VERSION:2.0
PRODID:-//City of Hastings - ECPv6.15.20//NONSGML v1.0//EN
CALSCALE:GREGORIAN
METHOD:PUBLISH
X-WR-CALNAME:City of Hastings
X-ORIGINAL-URL:https://www.hastingsmi.gov
X-WR-CALDESC:Events for City of Hastings
REFRESH-INTERVAL;VALUE=DURATION:PT1H
X-Robots-Tag:noindex
X-PUBLISHED-TTL:PT1H
BEGIN:VTIMEZONE
TZID:America/Detroit
BEGIN:DAYLIGHT
TZOFFSETFROM:-0500
TZOFFSETTO:-0400
TZNAME:EDT
DTSTART:20230312T070000
END:DAYLIGHT
BEGIN:STANDARD
TZOFFSETFROM:-0400
TZOFFSETTO:-0500
TZNAME:EST
DTSTART:20231105T060000
END:STANDARD
BEGIN:DAYLIGHT
TZOFFSETFROM:-0500
TZOFFSETTO:-0400
TZNAME:EDT
DTSTART:20240310T070000
END:DAYLIGHT
BEGIN:STANDARD
TZOFFSETFROM:-0400
TZOFFSETTO:-0500
TZNAME:EST
DTSTART:20241103T060000
END:STANDARD
BEGIN:DAYLIGHT
TZOFFSETFROM:-0500
TZOFFSETTO:-0400
TZNAME:EDT
DTSTART:20250309T070000
END:DAYLIGHT
BEGIN:STANDARD
TZOFFSETFROM:-0400
TZOFFSETTO:-0500
TZNAME:EST
DTSTART:20251102T060000
END:STANDARD
END:VTIMEZONE
BEGIN:VEVENT
DTSTART;TZID=America/Detroit:20241202T163000
DTEND;TZID=America/Detroit:20241202T173000
DTSTAMP:20260423T230633
CREATED:20240227T160218Z
LAST-MODIFIED:20240227T160219Z
UID:10001198-1733157000-1733160600@www.hastingsmi.gov
SUMMARY:Library Board
DESCRIPTION:Meetings are the 1st Monday of the month at 4:30 PM in the Library.
URL:https://www.hastingsmi.gov/event/library-board-2/2024-12-02
LOCATION:MI
CATEGORIES:Meeting
END:VEVENT
BEGIN:VEVENT
DTSTART;TZID=America/Detroit:20241202T190000
DTEND;TZID=America/Detroit:20241202T200000
DTSTAMP:20260423T230633
CREATED:20231219T163036Z
LAST-MODIFIED:20240227T155133Z
UID:10001558-1733166000-1733169600@www.hastingsmi.gov
SUMMARY:Planning Commission Meeting
DESCRIPTION:Meetings are the 1st Monday of the month at 7:00 PM in Council Chambers at City Hall.
URL:https://www.hastingsmi.gov/event/planning-commission-meeting-2/2024-12-02
LOCATION:MI
CATEGORIES:Meeting
END:VEVENT
BEGIN:VEVENT
DTSTART;TZID=America/Detroit:20241206T000000
DTEND;TZID=America/Detroit:20241206T235900
DTSTAMP:20260423T230633
CREATED:20240304T173251Z
LAST-MODIFIED:20240304T174748Z
UID:10002279-1733443200-1733529540@www.hastingsmi.gov
SUMMARY:Hastings Jingle and Mingle
DESCRIPTION:Enjoy holiday shopping in Downtown Hastings with free carriage rides\, tree lighting\, and family activities.
URL:https://www.hastingsmi.gov/event/hastings-jingle-and-mingle/2024-12-06
LOCATION:MI
CATEGORIES:Community Event
END:VEVENT
BEGIN:VEVENT
DTSTART;TZID=America/Detroit:20241207T000000
DTEND;TZID=America/Detroit:20241207T235900
DTSTAMP:20260423T230633
CREATED:20240304T173251Z
LAST-MODIFIED:20240304T174748Z
UID:10002280-1733529600-1733615940@www.hastingsmi.gov
SUMMARY:Hastings Jingle and Mingle
DESCRIPTION:Enjoy holiday shopping in Downtown Hastings with free carriage rides\, tree lighting\, and family activities.
URL:https://www.hastingsmi.gov/event/hastings-jingle-and-mingle/2024-12-07
LOCATION:MI
CATEGORIES:Community Event
END:VEVENT
BEGIN:VEVENT
DTSTART;TZID=America/Detroit:20241207T173000
DTEND;TZID=America/Detroit:20241207T173000
DTSTAMP:20260423T230633
CREATED:20240304T173959Z
LAST-MODIFIED:20240304T174005Z
UID:10002283-1733592600-1733592600@www.hastingsmi.gov
SUMMARY:Christmas Parade
DESCRIPTION:December 7 5:30 PM in Downtown Hastings.
URL:https://www.hastingsmi.gov/event/christmas-parade
LOCATION:MI
CATEGORIES:Community Event
END:VEVENT
BEGIN:VEVENT
DTSTART;TZID=America/Detroit:20241207T180000
DTEND;TZID=America/Detroit:20241207T200000
DTSTAMP:20260423T230633
CREATED:20241002T155711Z
LAST-MODIFIED:20241002T155719Z
UID:10002374-1733594400-1733601600@www.hastingsmi.gov
SUMMARY:Seasonal Grille Live: TBA
DESCRIPTION:
URL:https://www.hastingsmi.gov/event/seasonal-grille-live-lajoye-quartet
LOCATION:Seasonal Grille\, 150 W State St\, Hastings\, MI\, 49058\, United States
CATEGORIES:Community Event
END:VEVENT
BEGIN:VEVENT
DTSTART;TZID=America/Detroit:20241208T000000
DTEND;TZID=America/Detroit:20241208T235900
DTSTAMP:20260423T230633
CREATED:20240304T173251Z
LAST-MODIFIED:20240304T174748Z
UID:10002281-1733616000-1733702340@www.hastingsmi.gov
SUMMARY:Hastings Jingle and Mingle
DESCRIPTION:Enjoy holiday shopping in Downtown Hastings with free carriage rides\, tree lighting\, and family activities.
URL:https://www.hastingsmi.gov/event/hastings-jingle-and-mingle/2024-12-08
LOCATION:MI
CATEGORIES:Community Event
END:VEVENT
BEGIN:VEVENT
DTSTART;TZID=America/Detroit:20241209T190000
DTEND;TZID=America/Detroit:20241209T200000
DTSTAMP:20260423T230633
CREATED:20231030T182450Z
LAST-MODIFIED:20240227T154706Z
UID:10001378-1733770800-1733774400@www.hastingsmi.gov
SUMMARY:City Council Meeting
DESCRIPTION:The Hastings City Council meets the 2nd & 4th Monday each month from 7:00 p.m. to 8:00 p.m. in the City Hall Council Chamber.
URL:https://www.hastingsmi.gov/event/city-council-meeting-2-2/2024-12-09
LOCATION:MI
CATEGORIES:Meeting
END:VEVENT
BEGIN:VEVENT
DTSTART;TZID=America/Detroit:20241211T190000
DTEND;TZID=America/Detroit:20241211T210000
DTSTAMP:20260423T230633
CREATED:20241002T160702Z
LAST-MODIFIED:20241002T160754Z
UID:10002380-1733943600-1733950800@www.hastingsmi.gov
SUMMARY:Hastings Performing Arts Center: The Grand Rapids Symphony Home for the Holidays
DESCRIPTION:
URL:https://www.hastingsmi.gov/event/hastings-performing-arts-center-5
LOCATION:Hastings Performing Arts Center\, 520 W South St\, Hastings\, MI\, 49058\, United States
CATEGORIES:Community Event
END:VEVENT
BEGIN:VEVENT
DTSTART;TZID=America/Detroit:20241213T170000
DTEND;TZID=America/Detroit:20241213T200000
DTSTAMP:20260423T230633
CREATED:20240304T174505Z
LAST-MODIFIED:20240304T175317Z
UID:10002285-1734109200-1734120000@www.hastingsmi.gov
SUMMARY:Jingle All The Way
DESCRIPTION:December 13\, 2024 from 5 PM – 8 PM.
URL:https://www.hastingsmi.gov/event/jingle-all-the-way
LOCATION:MI
CATEGORIES:Community Event
END:VEVENT
BEGIN:VEVENT
DTSTART;TZID=America/Detroit:20241214T120600
DTEND;TZID=America/Detroit:20241214T120600
DTSTAMP:20260423T230633
CREATED:20241002T160703Z
LAST-MODIFIED:20241002T160741Z
UID:10002389-1734177960-1734177960@www.hastingsmi.gov
SUMMARY:Hastings Performing Arts Center: Christmas with John Berry
DESCRIPTION:
URL:https://www.hastingsmi.gov/event/hastings-performing-arts-center-6
LOCATION:Hastings Performing Arts Center\, 520 W South St\, Hastings\, MI\, 49058\, United States
CATEGORIES:Community Event
END:VEVENT
BEGIN:VEVENT
DTSTART;TZID=America/Detroit:20241214T180000
DTEND;TZID=America/Detroit:20241214T200000
DTSTAMP:20260423T230633
CREATED:20241002T155729Z
LAST-MODIFIED:20241002T155737Z
UID:10002375-1734199200-1734206400@www.hastingsmi.gov
SUMMARY:Seasonal Grille Live: TBA
DESCRIPTION:
URL:https://www.hastingsmi.gov/event/seasonal-grille-live-lajoye-quartet-2
LOCATION:Seasonal Grille\, 150 W State St\, Hastings\, MI\, 49058\, United States
CATEGORIES:Community Event
END:VEVENT
BEGIN:VEVENT
DTSTART;TZID=America/Detroit:20241217T190000
DTEND;TZID=America/Detroit:20241217T200000
DTSTAMP:20260423T230633
CREATED:20230314T170317Z
LAST-MODIFIED:20230314T170319Z
UID:10001259-1734462000-1734465600@www.hastingsmi.gov
SUMMARY:Zoning Board of Appeals
DESCRIPTION:Meetings are the 3rd Tuesday of the month at 7:00 PM in Council Chambers at City Hall.
URL:https://www.hastingsmi.gov/event/zoning-board-of-appeals/2024-12-17
LOCATION:MI
CATEGORIES:Meeting
END:VEVENT
BEGIN:VEVENT
DTSTART;TZID=America/Detroit:20241218T173000
DTEND;TZID=America/Detroit:20241218T183000
DTSTAMP:20260423T230633
CREATED:20231103T124642Z
LAST-MODIFIED:20240226T145402Z
UID:10001978-1734543000-1734546600@www.hastingsmi.gov
SUMMARY:Joint Planning Commission Meeting
DESCRIPTION:
URL:https://www.hastingsmi.gov/event/joint-planning-commission-meeting/2024-12-18
LOCATION:Rutland Township Hall\, 2461 Heath Rd\, Hastings\, MI\, 49058
CATEGORIES:Community Event,Meeting
END:VEVENT
BEGIN:VEVENT
DTSTART;TZID=America/Detroit:20241218T190000
DTEND;TZID=America/Detroit:20241218T200000
DTSTAMP:20260423T230633
CREATED:20241107T151238Z
LAST-MODIFIED:20241107T151238Z
UID:10002059-1734548400-1734552000@www.hastingsmi.gov
SUMMARY:City Council Meeting
DESCRIPTION:The Hastings City Council meets the 2nd & 4th Monday each month at 7:00 p.m. in the City Hall Council Chamber.
URL:https://www.hastingsmi.gov/event/city-council-meeting-5
LOCATION:MI
CATEGORIES:Meeting
END:VEVENT
BEGIN:VEVENT
DTSTART;TZID=America/Detroit:20241219T080000
DTEND;TZID=America/Detroit:20241219T090000
DTSTAMP:20260423T230633
CREATED:20231219T172149Z
LAST-MODIFIED:20231219T175002Z
UID:10001139-1734595200-1734598800@www.hastingsmi.gov
SUMMARY:Downtown Development Authority
DESCRIPTION:DDA Meetings occur on the third Thursday of every month in the conference room on the 2nd floor of City Hall.
URL:https://www.hastingsmi.gov/event/downtown-development-authority-2/2024-12-19
LOCATION:MI
CATEGORIES:Meeting
END:VEVENT
BEGIN:VEVENT
DTSTART;TZID=America/Detroit:20241220T190000
DTEND;TZID=America/Detroit:20241220T210000
DTSTAMP:20260423T230633
CREATED:20241002T160704Z
LAST-MODIFIED:20241002T160726Z
UID:10002382-1734721200-1734728400@www.hastingsmi.gov
SUMMARY:Hastings Performing Arts Center: The Kings Brass Christmas Concert
DESCRIPTION:
URL:https://www.hastingsmi.gov/event/hastings-performing-arts-center-7
LOCATION:Hastings Performing Arts Center\, 520 W South St\, Hastings\, MI\, 49058\, United States
CATEGORIES:Community Event
END:VEVENT
BEGIN:VEVENT
DTSTART;TZID=America/Detroit:20241221T180000
DTEND;TZID=America/Detroit:20241221T200000
DTSTAMP:20260423T230633
CREATED:20241002T155049Z
LAST-MODIFIED:20241002T155636Z
UID:10002376-1734804000-1734811200@www.hastingsmi.gov
SUMMARY:Seasonal Grille Live: LaJoye Quartet
DESCRIPTION:
URL:https://www.hastingsmi.gov/event/seasonal-grille-live/2024-12-21
LOCATION:Seasonal Grille\, 150 W State St\, Hastings\, MI\, 49058\, United States
CATEGORIES:Community Event
END:VEVENT
BEGIN:VEVENT
DTSTART;TZID=America/Detroit:20241224T000000
DTEND;TZID=America/Detroit:20241224T235900
DTSTAMP:20260423T230633
CREATED:20240227T144106Z
LAST-MODIFIED:20240227T144954Z
UID:10002018-1734998400-1735084740@www.hastingsmi.gov
SUMMARY:City Hall Closed
DESCRIPTION:City Hall is closed due to Christmas Eve.
URL:https://www.hastingsmi.gov/event/city-hall-closed-2
LOCATION:MI
CATEGORIES:Closure
END:VEVENT
BEGIN:VEVENT
DTSTART;TZID=America/Detroit:20241225T000000
DTEND;TZID=America/Detroit:20241225T235900
DTSTAMP:20260423T230633
CREATED:20240226T145851Z
LAST-MODIFIED:20240227T144028Z
UID:10002016-1735084800-1735171140@www.hastingsmi.gov
SUMMARY:City Hall Closed
DESCRIPTION:City Hall is closed due to Christmas Day
URL:https://www.hastingsmi.gov/event/city-hall-closed-christmas-day
LOCATION:MI
CATEGORIES:Closure
END:VEVENT
BEGIN:VEVENT
DTSTART;TZID=America/Detroit:20241226T080000
DTEND;TZID=America/Detroit:20241226T090000
DTSTAMP:20260423T230633
CREATED:20240515T144437Z
LAST-MODIFIED:20240515T150433Z
UID:10002295-1735200000-1735203600@www.hastingsmi.gov
SUMMARY:BRA Meeting
DESCRIPTION:8:00 a.m.
URL:https://www.hastingsmi.gov/event/bra-meeting/2024-12-26
LOCATION:MI
CATEGORIES:Meeting
END:VEVENT
BEGIN:VEVENT
DTSTART;TZID=America/Detroit:20241231T000000
DTEND;TZID=America/Detroit:20241231T235900
DTSTAMP:20260423T230633
CREATED:20240227T145046Z
LAST-MODIFIED:20240227T145046Z
UID:10002020-1735603200-1735689540@www.hastingsmi.gov
SUMMARY:City Hall Closed
DESCRIPTION:City Hall is closed due to New Year’s Eve.
URL:https://www.hastingsmi.gov/event/city-hall-closed-4
LOCATION:MI
CATEGORIES:Closure
END:VEVENT
BEGIN:VEVENT
DTSTART;TZID=America/Detroit:20241231T210000
DTEND;TZID=America/Detroit:20241231T210000
DTSTAMP:20260423T230633
CREATED:20240304T174250Z
LAST-MODIFIED:20240304T174640Z
UID:10002284-1735678800-1735678800@www.hastingsmi.gov
SUMMARY:New Year's Eve Ball Drop
DESCRIPTION:December 31\, 2024\, in Downtown Hastings.
URL:https://www.hastingsmi.gov/event/new-years-eve-ball-drop
LOCATION:MI
CATEGORIES:Community Event
END:VEVENT
END:VCALENDAR