BEGIN:VCALENDAR
VERSION:2.0
PRODID:-//City of Hastings - ECPv6.15.20//NONSGML v1.0//EN
CALSCALE:GREGORIAN
METHOD:PUBLISH
X-ORIGINAL-URL:https://www.hastingsmi.gov
X-WR-CALDESC:Events for City of Hastings
REFRESH-INTERVAL;VALUE=DURATION:PT1H
X-Robots-Tag:noindex
X-PUBLISHED-TTL:PT1H
BEGIN:VTIMEZONE
TZID:America/Detroit
BEGIN:DAYLIGHT
TZOFFSETFROM:-0500
TZOFFSETTO:-0400
TZNAME:EDT
DTSTART:20230312T070000
END:DAYLIGHT
BEGIN:STANDARD
TZOFFSETFROM:-0400
TZOFFSETTO:-0500
TZNAME:EST
DTSTART:20231105T060000
END:STANDARD
BEGIN:DAYLIGHT
TZOFFSETFROM:-0500
TZOFFSETTO:-0400
TZNAME:EDT
DTSTART:20240310T070000
END:DAYLIGHT
BEGIN:STANDARD
TZOFFSETFROM:-0400
TZOFFSETTO:-0500
TZNAME:EST
DTSTART:20241103T060000
END:STANDARD
BEGIN:DAYLIGHT
TZOFFSETFROM:-0500
TZOFFSETTO:-0400
TZNAME:EDT
DTSTART:20250309T070000
END:DAYLIGHT
BEGIN:STANDARD
TZOFFSETFROM:-0400
TZOFFSETTO:-0500
TZNAME:EST
DTSTART:20251102T060000
END:STANDARD
END:VTIMEZONE
BEGIN:VEVENT
DTSTART;TZID=America/Detroit:20240902T000000
DTEND;TZID=America/Detroit:20240902T235900
DTSTAMP:20260424T033034
CREATED:20240227T145309Z
LAST-MODIFIED:20240227T145309Z
UID:10002024-1725235200-1725321540@www.hastingsmi.gov
SUMMARY:City Hall Closed
DESCRIPTION:City Hall is closed due to Labor Day.
URL:https://www.hastingsmi.gov/event/city-hall-closed-8
LOCATION:MI
CATEGORIES:Closure
END:VEVENT
BEGIN:VEVENT
DTSTART;TZID=America/Detroit:20240903T190000
DTEND;TZID=America/Detroit:20240903T200000
DTSTAMP:20260424T033034
CREATED:20231219T163036Z
LAST-MODIFIED:20240227T155133Z
UID:10002054-1725390000-1725393600@www.hastingsmi.gov
SUMMARY:Planning Commission Meeting
DESCRIPTION:Meetings are the 1st Monday of the month at 7:00 PM in Council Chambers at City Hall.
URL:https://www.hastingsmi.gov/event/planning-commission-meeting-2/2024-09-03
LOCATION:MI
CATEGORIES:Meeting
END:VEVENT
BEGIN:VEVENT
DTSTART;TZID=America/Detroit:20240904T110000
DTEND;TZID=America/Detroit:20240904T160000
DTSTAMP:20260424T033034
CREATED:20240304T162518Z
LAST-MODIFIED:20240304T163357Z
UID:10002106-1725447600-1725465600@www.hastingsmi.gov
SUMMARY:Farmers Market
DESCRIPTION:May – October on the Courthouse Lawn \nWednesdays 11 AM – 4 PM \nSaturdays 9 AM – 1 PM
URL:https://www.hastingsmi.gov/event/farmers-market/2024-09-04
LOCATION:Courthouse Lawn\, 220 W State Street\, Hastings\, MI\, 49058\, United States
CATEGORIES:Community Event
END:VEVENT
BEGIN:VEVENT
DTSTART;TZID=America/Detroit:20240907T090000
DTEND;TZID=America/Detroit:20240907T130000
DTSTAMP:20260424T033034
CREATED:20240304T162614Z
LAST-MODIFIED:20240304T163612Z
UID:10002160-1725699600-1725714000@www.hastingsmi.gov
SUMMARY:Farmers Market
DESCRIPTION:May – October on the Courthouse Lawn \nWednesdays 11 AM – 4 PM \nSaturdays 9 AM – 1 PM
URL:https://www.hastingsmi.gov/event/farmers-market-2/2024-09-07
LOCATION:Courthouse Lawn\, 220 W State Street\, Hastings\, MI\, 49058\, United States
CATEGORIES:Community Event
END:VEVENT
BEGIN:VEVENT
DTSTART;TZID=America/Detroit:20240909T163000
DTEND;TZID=America/Detroit:20240909T173000
DTSTAMP:20260424T033034
CREATED:20240227T160218Z
LAST-MODIFIED:20240227T160219Z
UID:10002063-1725899400-1725903000@www.hastingsmi.gov
SUMMARY:Library Board
DESCRIPTION:Meetings are the 1st Monday of the month at 4:30 PM in the Library.
URL:https://www.hastingsmi.gov/event/library-board-2/2024-09-09
LOCATION:MI
CATEGORIES:Meeting
END:VEVENT
BEGIN:VEVENT
DTSTART;TZID=America/Detroit:20240909T190000
DTEND;TZID=America/Detroit:20240909T200000
DTSTAMP:20260424T033034
CREATED:20231030T182450Z
LAST-MODIFIED:20240227T154706Z
UID:10001375-1725908400-1725912000@www.hastingsmi.gov
SUMMARY:City Council Meeting
DESCRIPTION:The Hastings City Council meets the 2nd & 4th Monday each month from 7:00 p.m. to 8:00 p.m. in the City Hall Council Chamber.
URL:https://www.hastingsmi.gov/event/city-council-meeting-2-2/2024-09-09
LOCATION:MI
CATEGORIES:Meeting
END:VEVENT
BEGIN:VEVENT
DTSTART;TZID=America/Detroit:20240911T110000
DTEND;TZID=America/Detroit:20240911T160000
DTSTAMP:20260424T033034
CREATED:20240304T162518Z
LAST-MODIFIED:20240304T163357Z
UID:10002107-1726052400-1726070400@www.hastingsmi.gov
SUMMARY:Farmers Market
DESCRIPTION:May – October on the Courthouse Lawn \nWednesdays 11 AM – 4 PM \nSaturdays 9 AM – 1 PM
URL:https://www.hastingsmi.gov/event/farmers-market/2024-09-11
LOCATION:Courthouse Lawn\, 220 W State Street\, Hastings\, MI\, 49058\, United States
CATEGORIES:Community Event
END:VEVENT
BEGIN:VEVENT
DTSTART;TZID=America/Detroit:20240914T090000
DTEND;TZID=America/Detroit:20240914T130000
DTSTAMP:20260424T033034
CREATED:20240304T162614Z
LAST-MODIFIED:20240304T163612Z
UID:10002161-1726304400-1726318800@www.hastingsmi.gov
SUMMARY:Farmers Market
DESCRIPTION:May – October on the Courthouse Lawn \nWednesdays 11 AM – 4 PM \nSaturdays 9 AM – 1 PM
URL:https://www.hastingsmi.gov/event/farmers-market-2/2024-09-14
LOCATION:Courthouse Lawn\, 220 W State Street\, Hastings\, MI\, 49058\, United States
CATEGORIES:Community Event
END:VEVENT
BEGIN:VEVENT
DTSTART;TZID=America/Detroit:20240917T190000
DTEND;TZID=America/Detroit:20240917T200000
DTSTAMP:20260424T033034
CREATED:20230314T170317Z
LAST-MODIFIED:20230314T170319Z
UID:10001256-1726599600-1726603200@www.hastingsmi.gov
SUMMARY:Zoning Board of Appeals
DESCRIPTION:Meetings are the 3rd Tuesday of the month at 7:00 PM in Council Chambers at City Hall.
URL:https://www.hastingsmi.gov/event/zoning-board-of-appeals/2024-09-17
LOCATION:MI
CATEGORIES:Meeting
END:VEVENT
BEGIN:VEVENT
DTSTART;TZID=America/Detroit:20240918T103000
DTEND;TZID=America/Detroit:20240918T113000
DTSTAMP:20260424T033034
CREATED:20231030T184449Z
LAST-MODIFIED:20240226T145324Z
UID:10001919-1726655400-1726659000@www.hastingsmi.gov
SUMMARY:Park & Recreation Committee
DESCRIPTION:
URL:https://www.hastingsmi.gov/event/park-recreation-committee-2/2024-09-18
LOCATION:Hastings City Hall\, 2nd Fl Conference Rm\, 201 E. State St\, Hastings\, MI\, 49058
CATEGORIES:Community Event,Meeting
END:VEVENT
BEGIN:VEVENT
DTSTART;TZID=America/Detroit:20240918T110000
DTEND;TZID=America/Detroit:20240918T160000
DTSTAMP:20260424T033034
CREATED:20240304T162518Z
LAST-MODIFIED:20240304T163357Z
UID:10002108-1726657200-1726675200@www.hastingsmi.gov
SUMMARY:Farmers Market
DESCRIPTION:May – October on the Courthouse Lawn \nWednesdays 11 AM – 4 PM \nSaturdays 9 AM – 1 PM
URL:https://www.hastingsmi.gov/event/farmers-market/2024-09-18
LOCATION:Courthouse Lawn\, 220 W State Street\, Hastings\, MI\, 49058\, United States
CATEGORIES:Community Event
END:VEVENT
BEGIN:VEVENT
DTSTART;TZID=America/Detroit:20240918T173000
DTEND;TZID=America/Detroit:20240918T183000
DTSTAMP:20260424T033034
CREATED:20231103T124642Z
LAST-MODIFIED:20240226T145402Z
UID:10001976-1726680600-1726684200@www.hastingsmi.gov
SUMMARY:Joint Planning Commission Meeting
DESCRIPTION:
URL:https://www.hastingsmi.gov/event/joint-planning-commission-meeting/2024-09-18
LOCATION:Rutland Township Hall\, 2461 Heath Rd\, Hastings\, MI\, 49058
CATEGORIES:Community Event,Meeting
END:VEVENT
BEGIN:VEVENT
DTSTART;TZID=America/Detroit:20240919T080000
DTEND;TZID=America/Detroit:20240919T090000
DTSTAMP:20260424T033034
CREATED:20231219T172149Z
LAST-MODIFIED:20231219T175002Z
UID:10001136-1726732800-1726736400@www.hastingsmi.gov
SUMMARY:Downtown Development Authority
DESCRIPTION:DDA Meetings occur on the third Thursday of every month in the conference room on the 2nd floor of City Hall.
URL:https://www.hastingsmi.gov/event/downtown-development-authority-2/2024-09-19
LOCATION:MI
CATEGORIES:Meeting
END:VEVENT
BEGIN:VEVENT
DTSTART;TZID=America/Detroit:20240921T090000
DTEND;TZID=America/Detroit:20240921T130000
DTSTAMP:20260424T033034
CREATED:20240304T162614Z
LAST-MODIFIED:20240304T163612Z
UID:10002162-1726909200-1726923600@www.hastingsmi.gov
SUMMARY:Farmers Market
DESCRIPTION:May – October on the Courthouse Lawn \nWednesdays 11 AM – 4 PM \nSaturdays 9 AM – 1 PM
URL:https://www.hastingsmi.gov/event/farmers-market-2/2024-09-21
LOCATION:Courthouse Lawn\, 220 W State Street\, Hastings\, MI\, 49058\, United States
CATEGORIES:Community Event
END:VEVENT
BEGIN:VEVENT
DTSTART;TZID=America/Detroit:20240923T190000
DTEND;TZID=America/Detroit:20240923T200000
DTSTAMP:20260424T033034
CREATED:20230314T170750Z
LAST-MODIFIED:20240227T155606Z
UID:10001617-1727118000-1727121600@www.hastingsmi.gov
SUMMARY:City Council Meeting
DESCRIPTION:The Hastings City Council meets the 2nd & 4th Monday each month at 7:00 p.m. in the City Hall Council Chamber.
URL:https://www.hastingsmi.gov/event/city-council-meeting/2024-09-23
LOCATION:MI
CATEGORIES:Meeting
END:VEVENT
BEGIN:VEVENT
DTSTART;TZID=America/Detroit:20240925T110000
DTEND;TZID=America/Detroit:20240925T160000
DTSTAMP:20260424T033034
CREATED:20240304T162518Z
LAST-MODIFIED:20240304T163357Z
UID:10002109-1727262000-1727280000@www.hastingsmi.gov
SUMMARY:Farmers Market
DESCRIPTION:May – October on the Courthouse Lawn \nWednesdays 11 AM – 4 PM \nSaturdays 9 AM – 1 PM
URL:https://www.hastingsmi.gov/event/farmers-market/2024-09-25
LOCATION:Courthouse Lawn\, 220 W State Street\, Hastings\, MI\, 49058\, United States
CATEGORIES:Community Event
END:VEVENT
BEGIN:VEVENT
DTSTART;TZID=America/Detroit:20240925T163000
DTEND;TZID=America/Detroit:20240925T173000
DTSTAMP:20260424T033034
CREATED:20231113T200556Z
LAST-MODIFIED:20231113T200556Z
UID:10001496-1727281800-1727285400@www.hastingsmi.gov
SUMMARY:City/County Airport Authority Meeting
DESCRIPTION:Meetings are the 4th Wednesday of the month at 4:30 PM at the Hastings Airport\, 2505 Murphy Dr. \n 
URL:https://www.hastingsmi.gov/event/city-county-airport-authority-meeting-3/2024-09-25
LOCATION:MI
CATEGORIES:Meeting
END:VEVENT
BEGIN:VEVENT
DTSTART;TZID=America/Detroit:20240926T080000
DTEND;TZID=America/Detroit:20240926T090000
DTSTAMP:20260424T033034
CREATED:20240515T144437Z
LAST-MODIFIED:20240515T150433Z
UID:10002293-1727337600-1727341200@www.hastingsmi.gov
SUMMARY:BRA Meeting
DESCRIPTION:8:00 a.m.
URL:https://www.hastingsmi.gov/event/bra-meeting/2024-09-26
LOCATION:MI
CATEGORIES:Meeting
END:VEVENT
BEGIN:VEVENT
DTSTART;TZID=America/Detroit:20240928T090000
DTEND;TZID=America/Detroit:20240928T130000
DTSTAMP:20260424T033034
CREATED:20240304T162614Z
LAST-MODIFIED:20240304T163612Z
UID:10002163-1727514000-1727528400@www.hastingsmi.gov
SUMMARY:Farmers Market
DESCRIPTION:May – October on the Courthouse Lawn \nWednesdays 11 AM – 4 PM \nSaturdays 9 AM – 1 PM
URL:https://www.hastingsmi.gov/event/farmers-market-2/2024-09-28
LOCATION:Courthouse Lawn\, 220 W State Street\, Hastings\, MI\, 49058\, United States
CATEGORIES:Community Event
END:VEVENT
END:VCALENDAR