BEGIN:VCALENDAR
VERSION:2.0
PRODID:-//City of Hastings - ECPv6.15.20//NONSGML v1.0//EN
CALSCALE:GREGORIAN
METHOD:PUBLISH
X-ORIGINAL-URL:https://www.hastingsmi.gov
X-WR-CALDESC:Events for City of Hastings
REFRESH-INTERVAL;VALUE=DURATION:PT1H
X-Robots-Tag:noindex
X-PUBLISHED-TTL:PT1H
BEGIN:VTIMEZONE
TZID:America/Detroit
BEGIN:DAYLIGHT
TZOFFSETFROM:-0500
TZOFFSETTO:-0400
TZNAME:EDT
DTSTART:20230312T070000
END:DAYLIGHT
BEGIN:STANDARD
TZOFFSETFROM:-0400
TZOFFSETTO:-0500
TZNAME:EST
DTSTART:20231105T060000
END:STANDARD
BEGIN:DAYLIGHT
TZOFFSETFROM:-0500
TZOFFSETTO:-0400
TZNAME:EDT
DTSTART:20240310T070000
END:DAYLIGHT
BEGIN:STANDARD
TZOFFSETFROM:-0400
TZOFFSETTO:-0500
TZNAME:EST
DTSTART:20241103T060000
END:STANDARD
BEGIN:DAYLIGHT
TZOFFSETFROM:-0500
TZOFFSETTO:-0400
TZNAME:EDT
DTSTART:20250309T070000
END:DAYLIGHT
BEGIN:STANDARD
TZOFFSETFROM:-0400
TZOFFSETTO:-0500
TZNAME:EST
DTSTART:20251102T060000
END:STANDARD
END:VTIMEZONE
BEGIN:VEVENT
DTSTART;TZID=America/Detroit:20240801T110000
DTEND;TZID=America/Detroit:20240801T110000
DTSTAMP:20260424T045742
CREATED:20240304T171845Z
LAST-MODIFIED:20240304T172544Z
UID:10002247-1722510000-1722510000@www.hastingsmi.gov
SUMMARY:Playing at The Plaza: Children's Entertainment Series
DESCRIPTION:Thursdays June 13 – August 15 at 11 AM at the Thornapple Plaza.
URL:https://www.hastingsmi.gov/event/playing-at-the-plaza-childrens-entertainment-series/2024-08-01
LOCATION:Thornapple Plaza\, 301 E State St\, Hastings\, MI\, 49058\, United States
CATEGORIES:Community Event
END:VEVENT
BEGIN:VEVENT
DTSTART;TZID=America/Detroit:20240802T120000
DTEND;TZID=America/Detroit:20240802T120000
DTSTAMP:20260424T045742
CREATED:20240304T172330Z
LAST-MODIFIED:20240304T172330Z
UID:10002257-1722600000-1722600000@www.hastingsmi.gov
SUMMARY:Fridays at the Fountain
DESCRIPTION:Fridays June 14 – August 16 at Noon on the Courthouse Lawn.
URL:https://www.hastingsmi.gov/event/fridays-at-the-fountain/2024-08-02
LOCATION:Courthouse Lawn\, 220 W State Street\, Hastings\, MI\, 49058\, United States
CATEGORIES:Community Event
END:VEVENT
BEGIN:VEVENT
DTSTART;TZID=America/Detroit:20240802T150000
DTEND;TZID=America/Detroit:20240802T153000
DTSTAMP:20260424T045742
CREATED:20240801T131638Z
LAST-MODIFIED:20240801T161503Z
UID:10002363-1722610800-1722612600@www.hastingsmi.gov
SUMMARY:SPECIAL MEETING AIRPORT COMMISSION (HASTINGS AIRPORT)
DESCRIPTION:Public Notice of Special Meeting\nHastings City/Barry County Airport Commission \nThe Hastings City/Barry County Airport Commission will hold a special meeting on Friday\, August 2\, 2024 at 3:00 p.m. at the Hastings City/Barry County Airport\, 2505 Murphy Drive\, Hastings\, MI 49058 for the purpose of discussing airport management services and a board vacancy. The agenda for this meeting can be viewed at www.barrycounty.org. For additional information\, please contact Barry County Administration at 269-945-1284.
URL:https://www.hastingsmi.gov/event/special-meeting-airport-commission-hastings-airport
LOCATION:MI
CATEGORIES:Meeting
END:VEVENT
BEGIN:VEVENT
DTSTART;TZID=America/Detroit:20240802T193000
DTEND;TZID=America/Detroit:20240802T193000
DTSTAMP:20260424T045742
CREATED:20240712T164214Z
LAST-MODIFIED:20240712T164310Z
UID:10002237-1722627000-1722627000@www.hastingsmi.gov
SUMMARY:Friday Night Features: Bluecatz
DESCRIPTION:Friday Night Features run June 7 – August 16 on Fridays at the Thornapple Plaza. \nAugust 2 is Bluecatz. \nFor more information about Hastings Live events please visit: https://thornapplearts.org/hastingslive/
URL:https://www.hastingsmi.gov/event/friday-night-features-5
LOCATION:Thornapple Plaza\, 301 E State St\, Hastings\, MI\, 49058\, United States
CATEGORIES:Community Event
END:VEVENT
BEGIN:VEVENT
DTSTART;TZID=America/Detroit:20240803T090000
DTEND;TZID=America/Detroit:20240803T130000
DTSTAMP:20260424T045742
CREATED:20240304T162614Z
LAST-MODIFIED:20240304T163612Z
UID:10002155-1722675600-1722690000@www.hastingsmi.gov
SUMMARY:Farmers Market
DESCRIPTION:May – October on the Courthouse Lawn \nWednesdays 11 AM – 4 PM \nSaturdays 9 AM – 1 PM
URL:https://www.hastingsmi.gov/event/farmers-market-2/2024-08-03
LOCATION:Courthouse Lawn\, 220 W State Street\, Hastings\, MI\, 49058\, United States
CATEGORIES:Community Event
END:VEVENT
BEGIN:VEVENT
DTSTART;TZID=America/Detroit:20240805T163000
DTEND;TZID=America/Detroit:20240805T173000
DTSTAMP:20260424T045742
CREATED:20240227T160218Z
LAST-MODIFIED:20240227T160219Z
UID:10001194-1722875400-1722879000@www.hastingsmi.gov
SUMMARY:Library Board
DESCRIPTION:Meetings are the 1st Monday of the month at 4:30 PM in the Library.
URL:https://www.hastingsmi.gov/event/library-board-2/2024-08-05
LOCATION:MI
CATEGORIES:Meeting
END:VEVENT
BEGIN:VEVENT
DTSTART;TZID=America/Detroit:20240805T190000
DTEND;TZID=America/Detroit:20240805T200000
DTSTAMP:20260424T045742
CREATED:20231219T163036Z
LAST-MODIFIED:20240227T155133Z
UID:10001554-1722884400-1722888000@www.hastingsmi.gov
SUMMARY:Planning Commission Meeting
DESCRIPTION:Meetings are the 1st Monday of the month at 7:00 PM in Council Chambers at City Hall.
URL:https://www.hastingsmi.gov/event/planning-commission-meeting-2/2024-08-05
LOCATION:MI
CATEGORIES:Meeting
END:VEVENT
BEGIN:VEVENT
DTSTART;TZID=America/Detroit:20240807T110000
DTEND;TZID=America/Detroit:20240807T160000
DTSTAMP:20260424T045742
CREATED:20240304T162518Z
LAST-MODIFIED:20240304T163357Z
UID:10002102-1723028400-1723046400@www.hastingsmi.gov
SUMMARY:Farmers Market
DESCRIPTION:May – October on the Courthouse Lawn \nWednesdays 11 AM – 4 PM \nSaturdays 9 AM – 1 PM
URL:https://www.hastingsmi.gov/event/farmers-market/2024-08-07
LOCATION:Courthouse Lawn\, 220 W State Street\, Hastings\, MI\, 49058\, United States
CATEGORIES:Community Event
END:VEVENT
BEGIN:VEVENT
DTSTART;TZID=America/Detroit:20240807T193000
DTEND;TZID=America/Detroit:20240807T210000
DTSTAMP:20260424T045742
CREATED:20240712T162402Z
LAST-MODIFIED:20240712T162607Z
UID:10002275-1723059000-1723064400@www.hastingsmi.gov
SUMMARY:Community Concert Series: Jesse Cline & Kody Bryant
DESCRIPTION:The Community Concert Series takes place Wednesdays July 10 – August 21 at the Thornapple Plaza. \nAugust 7 is Jesse Cline & Kody Bryant. \nFor more information about the Hastings Live 2024 events visit: https://thornapplearts.org/hastingslive/
URL:https://www.hastingsmi.gov/event/community-concert-series-5
LOCATION:MI
CATEGORIES:Community Event
END:VEVENT
BEGIN:VEVENT
DTSTART;TZID=America/Detroit:20240808T110000
DTEND;TZID=America/Detroit:20240808T110000
DTSTAMP:20260424T045742
CREATED:20240304T171845Z
LAST-MODIFIED:20240304T172544Z
UID:10002248-1723114800-1723114800@www.hastingsmi.gov
SUMMARY:Playing at The Plaza: Children's Entertainment Series
DESCRIPTION:Thursdays June 13 – August 15 at 11 AM at the Thornapple Plaza.
URL:https://www.hastingsmi.gov/event/playing-at-the-plaza-childrens-entertainment-series/2024-08-08
LOCATION:Thornapple Plaza\, 301 E State St\, Hastings\, MI\, 49058\, United States
CATEGORIES:Community Event
END:VEVENT
BEGIN:VEVENT
DTSTART;TZID=America/Detroit:20240809T120000
DTEND;TZID=America/Detroit:20240809T120000
DTSTAMP:20260424T045742
CREATED:20240304T172330Z
LAST-MODIFIED:20240304T172330Z
UID:10002258-1723204800-1723204800@www.hastingsmi.gov
SUMMARY:Fridays at the Fountain
DESCRIPTION:Fridays June 14 – August 16 at Noon on the Courthouse Lawn.
URL:https://www.hastingsmi.gov/event/fridays-at-the-fountain/2024-08-09
LOCATION:Courthouse Lawn\, 220 W State Street\, Hastings\, MI\, 49058\, United States
CATEGORIES:Community Event
END:VEVENT
BEGIN:VEVENT
DTSTART;TZID=America/Detroit:20240809T193000
DTEND;TZID=America/Detroit:20240809T193000
DTSTAMP:20260424T045742
CREATED:20240712T164324Z
LAST-MODIFIED:20240712T164433Z
UID:10002238-1723231800-1723231800@www.hastingsmi.gov
SUMMARY:Friday Night Features: Kanin Wren's Taylor Swift Experience
DESCRIPTION:Friday Night Features run June 7 – August 16 on Fridays at the Thornapple Plaza. \nAugust 9 is Kanin Wren’s Taylor Swift Experience. More information about this band is on their website: https://www.kaninwren.com/taylorswiftexperience \nFor more information about Hastings Live events please visit: https://thornapplearts.org/hastingslive/
URL:https://www.hastingsmi.gov/event/friday-night-features-6
LOCATION:Thornapple Plaza\, 301 E State St\, Hastings\, MI\, 49058\, United States
CATEGORIES:Community Event
END:VEVENT
BEGIN:VEVENT
DTSTART;TZID=America/Detroit:20240810T090000
DTEND;TZID=America/Detroit:20240810T130000
DTSTAMP:20260424T045742
CREATED:20240304T162614Z
LAST-MODIFIED:20240304T163612Z
UID:10002156-1723280400-1723294800@www.hastingsmi.gov
SUMMARY:Farmers Market
DESCRIPTION:May – October on the Courthouse Lawn \nWednesdays 11 AM – 4 PM \nSaturdays 9 AM – 1 PM
URL:https://www.hastingsmi.gov/event/farmers-market-2/2024-08-10
LOCATION:Courthouse Lawn\, 220 W State Street\, Hastings\, MI\, 49058\, United States
CATEGORIES:Community Event
END:VEVENT
BEGIN:VEVENT
DTSTART;TZID=America/Detroit:20240810T170000
DTEND;TZID=America/Detroit:20240810T220000
DTSTAMP:20260424T045742
CREATED:20240418T135719Z
LAST-MODIFIED:20240418T135729Z
UID:10002288-1723309200-1723327200@www.hastingsmi.gov
SUMMARY:Hastings Social District 2024 Block Parties
DESCRIPTION:Hastings Social District 2024 Block Parties: June 8\, July 13\, and August 10\, 2024. \nParties will occur on South Jefferson Street.
URL:https://www.hastingsmi.gov/event/hastings-social-district-2024-block-parties/2024-08-10
LOCATION:MI
CATEGORIES:Community Event
END:VEVENT
BEGIN:VEVENT
DTSTART;TZID=America/Detroit:20240812T190000
DTEND;TZID=America/Detroit:20240812T200000
DTSTAMP:20260424T045742
CREATED:20231030T182450Z
LAST-MODIFIED:20240227T154706Z
UID:10001374-1723489200-1723492800@www.hastingsmi.gov
SUMMARY:City Council Meeting
DESCRIPTION:The Hastings City Council meets the 2nd & 4th Monday each month from 7:00 p.m. to 8:00 p.m. in the City Hall Council Chamber.
URL:https://www.hastingsmi.gov/event/city-council-meeting-2-2/2024-08-12
LOCATION:MI
CATEGORIES:Meeting
END:VEVENT
BEGIN:VEVENT
DTSTART;TZID=America/Detroit:20240814T110000
DTEND;TZID=America/Detroit:20240814T160000
DTSTAMP:20260424T045742
CREATED:20240304T162518Z
LAST-MODIFIED:20240304T163357Z
UID:10002103-1723633200-1723651200@www.hastingsmi.gov
SUMMARY:Farmers Market
DESCRIPTION:May – October on the Courthouse Lawn \nWednesdays 11 AM – 4 PM \nSaturdays 9 AM – 1 PM
URL:https://www.hastingsmi.gov/event/farmers-market/2024-08-14
LOCATION:Courthouse Lawn\, 220 W State Street\, Hastings\, MI\, 49058\, United States
CATEGORIES:Community Event
END:VEVENT
BEGIN:VEVENT
DTSTART;TZID=America/Detroit:20240814T193000
DTEND;TZID=America/Detroit:20240814T210000
DTSTAMP:20260424T045742
CREATED:20240712T162625Z
LAST-MODIFIED:20240712T162712Z
UID:10002276-1723663800-1723669200@www.hastingsmi.gov
SUMMARY:Community Concert Series: Michigan Songwriters in the Round
DESCRIPTION:The Community Concert Series takes place Wednesdays July 10 – August 21 at the Thornapple Plaza. \nAugust 14 is Michigan Songwriters in the Round. \nFor more information about the Hastings Live 2024 events visit: https://thornapplearts.org/hastingslive/
URL:https://www.hastingsmi.gov/event/community-concert-series-6
LOCATION:MI
CATEGORIES:Community Event
END:VEVENT
BEGIN:VEVENT
DTSTART;TZID=America/Detroit:20240815T080000
DTEND;TZID=America/Detroit:20240815T090000
DTSTAMP:20260424T045742
CREATED:20231219T172149Z
LAST-MODIFIED:20231219T175002Z
UID:10001135-1723708800-1723712400@www.hastingsmi.gov
SUMMARY:Downtown Development Authority
DESCRIPTION:DDA Meetings occur on the third Thursday of every month in the conference room on the 2nd floor of City Hall.
URL:https://www.hastingsmi.gov/event/downtown-development-authority-2/2024-08-15
LOCATION:MI
CATEGORIES:Meeting
END:VEVENT
BEGIN:VEVENT
DTSTART;TZID=America/Detroit:20240815T110000
DTEND;TZID=America/Detroit:20240815T110000
DTSTAMP:20260424T045742
CREATED:20240304T171845Z
LAST-MODIFIED:20240304T172544Z
UID:10002249-1723719600-1723719600@www.hastingsmi.gov
SUMMARY:Playing at The Plaza: Children's Entertainment Series
DESCRIPTION:Thursdays June 13 – August 15 at 11 AM at the Thornapple Plaza.
URL:https://www.hastingsmi.gov/event/playing-at-the-plaza-childrens-entertainment-series/2024-08-15
LOCATION:Thornapple Plaza\, 301 E State St\, Hastings\, MI\, 49058\, United States
CATEGORIES:Community Event
END:VEVENT
BEGIN:VEVENT
DTSTART;TZID=America/Detroit:20240816T120000
DTEND;TZID=America/Detroit:20240816T120000
DTSTAMP:20260424T045742
CREATED:20240304T172330Z
LAST-MODIFIED:20240304T172330Z
UID:10002259-1723809600-1723809600@www.hastingsmi.gov
SUMMARY:Fridays at the Fountain
DESCRIPTION:Fridays June 14 – August 16 at Noon on the Courthouse Lawn.
URL:https://www.hastingsmi.gov/event/fridays-at-the-fountain/2024-08-16
LOCATION:Courthouse Lawn\, 220 W State Street\, Hastings\, MI\, 49058\, United States
CATEGORIES:Community Event
END:VEVENT
BEGIN:VEVENT
DTSTART;TZID=America/Detroit:20240816T193000
DTEND;TZID=America/Detroit:20240816T193000
DTSTAMP:20260424T045742
CREATED:20240712T164453Z
LAST-MODIFIED:20240712T164559Z
UID:10002239-1723836600-1723836600@www.hastingsmi.gov
SUMMARY:Friday Night Features: Roosevelt Diggs
DESCRIPTION:Friday Night Features run June 7 – August 16 on Fridays at the Thornapple Plaza. \nAugust 16 is Roosevelt Diggs. More information about this band is on their website: http://www.rooseveltdiggs.com/ \nFor more information about Hastings Live events please visit: https://thornapplearts.org/hastingslive/
URL:https://www.hastingsmi.gov/event/friday-night-features-7
LOCATION:Thornapple Plaza\, 301 E State St\, Hastings\, MI\, 49058\, United States
CATEGORIES:Community Event
END:VEVENT
BEGIN:VEVENT
DTSTART;TZID=America/Detroit:20240817T090000
DTEND;TZID=America/Detroit:20240817T130000
DTSTAMP:20260424T045742
CREATED:20240304T162614Z
LAST-MODIFIED:20240304T163612Z
UID:10002157-1723885200-1723899600@www.hastingsmi.gov
SUMMARY:Farmers Market
DESCRIPTION:May – October on the Courthouse Lawn \nWednesdays 11 AM – 4 PM \nSaturdays 9 AM – 1 PM
URL:https://www.hastingsmi.gov/event/farmers-market-2/2024-08-17
LOCATION:Courthouse Lawn\, 220 W State Street\, Hastings\, MI\, 49058\, United States
CATEGORIES:Community Event
END:VEVENT
BEGIN:VEVENT
DTSTART;TZID=America/Detroit:20240820T190000
DTEND;TZID=America/Detroit:20240820T200000
DTSTAMP:20260424T045742
CREATED:20230314T170317Z
LAST-MODIFIED:20230314T170319Z
UID:10001255-1724180400-1724184000@www.hastingsmi.gov
SUMMARY:Zoning Board of Appeals
DESCRIPTION:Meetings are the 3rd Tuesday of the month at 7:00 PM in Council Chambers at City Hall.
URL:https://www.hastingsmi.gov/event/zoning-board-of-appeals/2024-08-20
LOCATION:MI
CATEGORIES:Meeting
END:VEVENT
BEGIN:VEVENT
DTSTART;TZID=America/Detroit:20240821T103000
DTEND;TZID=America/Detroit:20240821T113000
DTSTAMP:20260424T045742
CREATED:20231030T184449Z
LAST-MODIFIED:20240226T145324Z
UID:10001918-1724236200-1724239800@www.hastingsmi.gov
SUMMARY:Park & Recreation Committee
DESCRIPTION:
URL:https://www.hastingsmi.gov/event/park-recreation-committee-2/2024-08-21
LOCATION:Hastings City Hall\, 2nd Fl Conference Rm\, 201 E. State St\, Hastings\, MI\, 49058
CATEGORIES:Community Event,Meeting
END:VEVENT
BEGIN:VEVENT
DTSTART;TZID=America/Detroit:20240821T110000
DTEND;TZID=America/Detroit:20240821T160000
DTSTAMP:20260424T045742
CREATED:20240304T162518Z
LAST-MODIFIED:20240304T163357Z
UID:10002104-1724238000-1724256000@www.hastingsmi.gov
SUMMARY:Farmers Market
DESCRIPTION:May – October on the Courthouse Lawn \nWednesdays 11 AM – 4 PM \nSaturdays 9 AM – 1 PM
URL:https://www.hastingsmi.gov/event/farmers-market/2024-08-21
LOCATION:Courthouse Lawn\, 220 W State Street\, Hastings\, MI\, 49058\, United States
CATEGORIES:Community Event
END:VEVENT
BEGIN:VEVENT
DTSTART;TZID=America/Detroit:20240821T173000
DTEND;TZID=America/Detroit:20240821T183000
DTSTAMP:20260424T045742
CREATED:20231103T124642Z
LAST-MODIFIED:20240226T145402Z
UID:10001975-1724261400-1724265000@www.hastingsmi.gov
SUMMARY:Joint Planning Commission Meeting
DESCRIPTION:
URL:https://www.hastingsmi.gov/event/joint-planning-commission-meeting/2024-08-21
LOCATION:Rutland Township Hall\, 2461 Heath Rd\, Hastings\, MI\, 49058
CATEGORIES:Community Event,Meeting
END:VEVENT
BEGIN:VEVENT
DTSTART;TZID=America/Detroit:20240821T193000
DTEND;TZID=America/Detroit:20240821T210000
DTSTAMP:20260424T045742
CREATED:20240712T162723Z
LAST-MODIFIED:20240712T162936Z
UID:10002277-1724268600-1724274000@www.hastingsmi.gov
SUMMARY:Community Concert Series: AmpRage
DESCRIPTION:The Community Concert Series takes place Wednesdays July 10 – August 21 at the Thornapple Plaza. \nAugust 21 is AmpRage. For more info about this band check their website:https://www.facebook.com/ampragerocks \nFor more information about the Hastings Live 2024 events visit: https://thornapplearts.org/hastingslive/
URL:https://www.hastingsmi.gov/event/community-concert-series-7
LOCATION:MI
CATEGORIES:Community Event
END:VEVENT
BEGIN:VEVENT
DTSTART;TZID=America/Detroit:20240822T080000
DTEND;TZID=America/Detroit:20240822T090000
DTSTAMP:20260424T045742
CREATED:20240515T144437Z
LAST-MODIFIED:20240515T150433Z
UID:10002292-1724313600-1724317200@www.hastingsmi.gov
SUMMARY:BRA Meeting
DESCRIPTION:8:00 a.m.
URL:https://www.hastingsmi.gov/event/bra-meeting/2024-08-22
LOCATION:MI
CATEGORIES:Meeting
END:VEVENT
BEGIN:VEVENT
DTSTART;TZID=America/Detroit:20240823T000100
DTEND;TZID=America/Detroit:20240823T235900
DTSTAMP:20260424T045742
CREATED:20240304T172449Z
LAST-MODIFIED:20240304T174925Z
UID:10002260-1724371260-1724457540@www.hastingsmi.gov
SUMMARY:Summerfest
DESCRIPTION:August 23-25
URL:https://www.hastingsmi.gov/event/summerfest/2024-08-23
LOCATION:MI
CATEGORIES:Community Event
END:VEVENT
BEGIN:VEVENT
DTSTART;TZID=America/Detroit:20240824T000100
DTEND;TZID=America/Detroit:20240824T235900
DTSTAMP:20260424T045742
CREATED:20240304T172449Z
LAST-MODIFIED:20240304T174925Z
UID:10002261-1724457660-1724543940@www.hastingsmi.gov
SUMMARY:Summerfest
DESCRIPTION:August 23-25
URL:https://www.hastingsmi.gov/event/summerfest/2024-08-24
LOCATION:MI
CATEGORIES:Community Event
END:VEVENT
END:VCALENDAR